BEGIN:VCALENDAR
VERSION:2.0
PRODID:-//National opera and ballet - ECPv4.0.7//NONSGML v1.0//EN
CALSCALE:GREGORIAN
METHOD:PUBLISH
X-WR-CALNAME:National opera and ballet
X-ORIGINAL-URL:https://operabalet.mk/en
X-WR-CALDESC:Events for National opera and ballet
BEGIN:VEVENT
DTSTART;TZID="UTC+0":20220514T200000
DTEND;TZID="UTC+0":20220514T210000
DTSTAMP:20260424T041656
CREATED:20220422T212304
LAST-MODIFIED:20220427T093646
UID:1194-1652558400-1652562000@operabalet.mk
SUMMARY:THE LADIES OF AVIGNON-ballet (off program-14.5.2022)
DESCRIPTION:\nAUTHORS TEAM:\nMusic: Kaliopi Bukle\nChoreography / Director: Olga Pango\nThe libretto and dramaturgy: Sasho Dimoski\nAssistants to the choreographer: Goran Bozhinov\, Sasha Evtimova\nCostume designer: Rade Vasilev\nMultimedia and design: Emil Petrov\nLight design: Milcho Aleksandrov\nMakeup design: Zlatica Popovska\nScenographic elements were used from the opera "The Dragon Bride" –\nScenographer: Valentin Svetozarev\nCAST:\nOlga Koklova: Aleksandra Mijalkova\nDora Maar: Mimi Pop-Aleksova Atanasovska\nEva Guel: Ivana Kocevska\nMarie-Thérèse Walter: Sasha Evtimova\nFrançoise Gilo: Hristina Nakjevska\nPostman: Miroslav Mitrashinovikj\nConfectioner: Balázs Lőcsei (Hungary)\nFriend: Agim Baftii\nShoemaker: Andrew Cook (England)
URL:https://operabalet.mk/en/event/the-ladies-of-avignon-ballet-off-program-14-5-2022/
LOCATION:Array
CATEGORIES:ballet
ATTACH;FMTTYPE=image/jpeg:https://operabalet.mk/en/wp-content/uploads/sites/2/2022/04/AVIGNON.jpg
END:VEVENT
END:VCALENDAR