BEGIN:VCALENDAR
VERSION:2.0
PRODID:-//National opera and ballet - ECPv4.0.7//NONSGML v1.0//EN
CALSCALE:GREGORIAN
METHOD:PUBLISH
X-WR-CALNAME:National opera and ballet
X-ORIGINAL-URL:https://operabalet.mk/en
X-WR-CALDESC:Events for National opera and ballet
BEGIN:VEVENT
DTSTART;TZID="UTC+0":20220309T200000
DTEND;TZID="UTC+0":20220309T210000
DTSTAMP:20260423T152717
CREATED:20220228T135040
LAST-MODIFIED:20220301T142310
UID:1165-1646856000-1646859600@operabalet.mk
SUMMARY:The ladies of Avignon - Premiere (9.3.2022)
DESCRIPTION:\nTHE LADIES OF AVIGNON\nballet in nine paintings\n9.3.2022 - 8 pm PREMIERE\nLibretto: Sasho Dimoski\nMusic: Kaliopi Bukle\nChoreographer: Olga Pango\nAssistants to the choreographer: Goran Bozhinov\, Sasha Evtimova\nCostume designer: Rade Vasilev\nStage design and multimedia: Emil Petrov\nLight design: Milcho Aleksandrov\nPhotographer\, poster design and catalog: Emil Petrov\nCAST:\nOlga Koklova - Aleksandra Mijalkova\nDora Maar - Mimi Pop-Aleksova Atanasovska\nEva Guel - Ivana Kocevska (Iliana Danilov)\nMarie-Thérèse Walter - Sasha Evtimova\nFrançoise Zilo - Hristina Nakjevska (Biljana Basmadzieva-Kovachevska)\nThe postman - Miroslav Mitrashinovic\nThe confectioner - Balazh Locsei\nThe friend - Agim Baftii (Igor Velanovski)\nThe shoemaker - Andrew Cook
URL:https://operabalet.mk/en/event/the-ladies-of-avignon-premiere-9-3-2022/
LOCATION:Array
CATEGORIES:ballet
ATTACH;FMTTYPE=image/jpeg:https://operabalet.mk/en/wp-content/uploads/sites/2/2022/02/avignon.jpg
END:VEVENT
END:VCALENDAR