BEGIN:VCALENDAR
VERSION:2.0
PRODID:-//National opera and ballet - ECPv4.0.7//NONSGML v1.0//EN
CALSCALE:GREGORIAN
METHOD:PUBLISH
X-WR-CALNAME:National opera and ballet
X-ORIGINAL-URL:https://operabalet.mk/en
X-WR-CALDESC:Events for National opera and ballet
BEGIN:VEVENT
DTSTART;TZID="UTC+0":20230124T200000
DTEND;TZID="UTC+0":20230124T210000
DTSTAMP:20260423T155343
CREATED:20230109T100058
LAST-MODIFIED:20230123T145259
UID:1285-1674590400-1674594000@operabalet.mk
SUMMARY:„THE MISTRESSES OF AVIGON“ - Ballet in 9 pictures (24.1.2023)
DESCRIPTION:\n„THE MISTRESSES OF AVIGON“\nBallet in 9 pictures\n24.1.2023/8:00 pm\nAUTHOR TEAM:\nMUSIC: Kaliopi Boucle CHOREOGRAPHY AND DIRECTION: Olga Pango LIBRETTO AND DRAMATURGY: Sasho Dimoski ASSISTANTS TO THE CHOREOGRAPHER: Goran Božinov\, Sasha Evtimova COSTUME DESIGNER: Rade Vasilev MULTIMEDIA AND DESIGN: Emil Petrov LIGHT DESIGN: Milcho Alexandrov MAKEUP DESIGN: Zlatica Popovska\nScenographic elements were used from the opera “Dragon’s Bride” - scenographer Valentin Svetazarev\nROLES: OLGA KOKLOVA: Aleksandra Mijalkova DORA MAAR: Mimi Pop - Aleksova Atanasovska EVA GUEL: Ivana Kocevska MARIE - THERESE WALTER: Sasha Evtimova FRANSOISE GILOT: Hristina Nakjevska THE POSTMAN: Miroslav Mitrashinovikj THE CONFECTIONER: Balazs Locsei (Hungary) THE FRIEND: Agim Baftii THE SHOEMAKER: Andrew Cook (England)\nDuration: 60 minutes
URL:https://operabalet.mk/en/event/the-mistresses-of-avigon-ballet-in-9-pictures/
LOCATION:Array
CATEGORIES:ballet
ATTACH;FMTTYPE=image/jpeg:https://operabalet.mk/en/wp-content/uploads/sites/2/2022/02/avignon.jpg
END:VEVENT
END:VCALENDAR