BEGIN:VCALENDAR
VERSION:2.0
PRODID:-//National opera and ballet - ECPv4.0.7//NONSGML v1.0//EN
CALSCALE:GREGORIAN
METHOD:PUBLISH
X-WR-CALNAME:National opera and ballet
X-ORIGINAL-URL:https://operabalet.mk/en
X-WR-CALDESC:Events for National opera and ballet
BEGIN:VEVENT
DTSTART;TZID="UTC+0":20191228T200000
DTEND;TZID="UTC+0":20191228T223000
DTSTAMP:20260424T133618
CREATED:20191212T123734
LAST-MODIFIED:20191224T153129
UID:937-1577563200-1577572200@operabalet.mk
SUMMARY:The Nutcracker - P. I. Tchaikovsky (28.12.2019)
DESCRIPTION:Associated with the celebration of the great holidays. Based on the fairy tale Marius Petipa wrote the libretto and the music was composed by Pyotr Ilyich Tchaikovsky. It's one of the most popular and most frequently staged plays on all world stages. We hope that our youngest audience will enjoy this play\, although the performance is receptive for other ages.\nConductor: Bisera Chadlovska\nLibretto: M. I. Petipa after tale of T. A. Hofmann\nChoreography: Vasily Ivanovich Vainonen (Russia)\nChoreography adaptation:Mihail Krapivin (Russia)\nSet designer: Anatoly Nezhnji (Russia)\nCostume: Ljupka Ristovska\nConcert master: Verica Lambevska\nRepetitours: Goran Bozhinov\, Aleksandra Mijalkova\, Vasil Chichiashvili\, Lora Tarchugovska\, Biljana Pasharikovska\, Dafina Daniloska\n\n \n\nCast:\n\nClara: Mimi Pop Aleksova Atanasovska\nPrince: Boban Kovachevski\nRose waltz - solo: Marija Josifovska Ristovska\nLittle Clara: Ela Kaner (Turkey)\nSnowflake: Hristina Nakjevska\, Bojana Hristovska\nFeatured soloists corps de Ballet and the orchestra of the National Opera & Ballet and students of State Musical School - Ilija Nikolovski Luj
URL:https://operabalet.mk/en/event/the-nutcracker-p-i-tchaikovsky-28-12-2019/
LOCATION:Blvd. Goce Delchev 4\, Skopje\, 1000\, Macedonia
CATEGORIES:ballet
ATTACH;FMTTYPE=image/jpeg:https://operabalet.mk/en/wp-content/uploads/sites/2/2017/01/orevokrshacka.jpg
END:VEVENT
END:VCALENDAR