BEGIN:VCALENDAR
VERSION:2.0
PRODID:-//National opera and ballet - ECPv4.0.7//NONSGML v1.0//EN
CALSCALE:GREGORIAN
METHOD:PUBLISH
X-WR-CALNAME:National opera and ballet
X-ORIGINAL-URL:https://operabalet.mk/en
X-WR-CALDESC:Events for National opera and ballet
BEGIN:VEVENT
DTSTART;TZID="UTC+0":20231228T200000
DTEND;TZID="UTC+0":20231228T220000
DTSTAMP:20260423T150107
CREATED:20231012T120410
LAST-MODIFIED:20231214T163512
UID:1399-1703793600-1703800800@operabalet.mk
SUMMARY:The Nutcracker - P. I. Tchaikovsky (28.12.2023)
DESCRIPTION:\nAssociated with the celebration of the great holidays. Based on the fairy tale Marius Petipa wrote the libretto and the music was composed by Pyotr Ilyich Tchaikovsky. It's one of the most popular and most frequently staged plays on all world stages. We hope that our youngest audience will enjoy this play\, although the performance is receptive for other ages.\nConductor:\nLibretto: M. I. Petipa after tale of T. A. Hofmann\nChoreography: Vasily Ivanovich Vainonen (Russia)\nChoreography adaptation:Mihail Krapivin (Russia)\nSet designer: Anatoly Nezhnji (Russia)\nCostume: Ljupka Ristovska\nConcert master: Kliment Todoroski\nRepetitours: Goran Bozhinov\, Aleksandra Mijalkova\, Biljana Pasharikovska\, Dafina Daniloska-Kochevska\nCast:\nClara:Hristina Nakjevska\nPrince: Balazh Loscei (Hungary)\nFeatured soloists corps de Ballet\, the orchestra of the National Opera & Ballet and students of State Musical School - Ilija Nikolovski Luj
URL:https://operabalet.mk/en/event/the-nutcracker-p-i-tchaikovsky-28-12-2023/
LOCATION:Array
CATEGORIES:ballet
ATTACH;FMTTYPE=image/jpeg:https://operabalet.mk/en/wp-content/uploads/sites/2/2017/01/orevokrshacka.jpg
END:VEVENT
END:VCALENDAR