BEGIN:VCALENDAR
VERSION:2.0
PRODID:-//National opera and ballet - ECPv4.0.7//NONSGML v1.0//EN
CALSCALE:GREGORIAN
METHOD:PUBLISH
X-WR-CALNAME:National opera and ballet
X-ORIGINAL-URL:https://operabalet.mk/en
X-WR-CALDESC:Events for National opera and ballet
BEGIN:VEVENT
DTSTART;TZID="UTC+0":20201229T200000
DTEND;TZID="UTC+0":20201229T213500
DTSTAMP:20260423T152647
CREATED:20201228T153224
LAST-MODIFIED:20201228T153224
UID:1008-1609272000-1609277700@operabalet.mk
SUMMARY:THE NUTCRACKER – P. I. TCHAIKOVSKY (29.12.2020 - online premiere)
DESCRIPTION:\nDear fans of opera and ballet art\, traditionally in December every year we perform the ballet performance "Nutcracker"  by P. I. Tchaikovsky\, however\, this year due to the covid 19 pandemic\, we will broadcast the play online. On December 29\, at 8 pm\, you will be able to watch the play "Nutcracker"\, which will be available for 48 hours on our YouTube channel.\nLink to the event: "Nutcracker" - P. И. Tchaikovsky\n******************************************************************************************************************************\nAssociated with the celebration of the great holidays. Based on the fairy tale Marius Petipa wrote the libretto and the music was composed by Pyotr Ilyich Tchaikovsky. It’s one of the most popular and most frequently staged plays on all world stages. We hope that our youngest audience will enjoy this play\, although the performance is receptive for other ages.\nConductor: Bisera Chadlovska\nLibretto: M. I. Petipa after tale of T. A. Hofmann\nChoreography: Vasily Ivanovich Vainonen (Russia)\nChoreography adaptation:Mihail Krapivin (Russia)\nSet designer: Anatoly Nezhnji (Russia)\nCostume: Ljupka Ristovska\nConcert master: Verica Lambevska\nRepetitours: Goran Bozhinov\, Aleksandra Mijalkova\, Vasil Chichiashvili\, Lora Tarchugovska\, Biljana Pasharikovska\, Dafina Daniloska\nCast:\nClara: Mimi Pop Aleksova Atanasovska\nPrince: Boban Kovachevski\nRose waltz – solo: Marija Josifovska Ristovska\nLittle Clara: Ela Kaner (Turkey)\nSnowflake: Hristina Nakjevska\, Bojana Hristovska\nFeatured soloists corps de Ballet and the orchestra of the National Opera & Ballet and students of State Musical School – Ilija Nikolovski Luj
URL:https://operabalet.mk/en/event/the-nutcracker-p-i-tchaikovsky-29-12-2020-online-premiere/
LOCATION:Array
CATEGORIES:ballet
ATTACH;FMTTYPE=image/jpeg:https://operabalet.mk/en/wp-content/uploads/sites/2/2018/01/orevkrsacka.jpg
END:VEVENT
END:VCALENDAR