BEGIN:VCALENDAR
VERSION:2.0
PRODID:-//National opera and ballet - ECPv4.0.7//NONSGML v1.0//EN
CALSCALE:GREGORIAN
METHOD:PUBLISH
X-WR-CALNAME:National opera and ballet
X-ORIGINAL-URL:https://operabalet.mk/en
X-WR-CALDESC:Events for National opera and ballet
BEGIN:VEVENT
DTSTART;TZID="UTC+0":20230131T200000
DTEND;TZID="UTC+0":20230131T220000
DTSTAMP:20260423T150018
CREATED:20230123T113639
LAST-MODIFIED:20230125T134050
UID:1294-1675195200-1675202400@operabalet.mk
SUMMARY:The Nutcracker - P. I. Tchaikovsky (31.1.2023)
DESCRIPTION:Associated with the celebration of the great holidays. Based on the fairy tale Marius Petipa wrote the libretto and the music was composed by Pyotr Ilyich Tchaikovsky. It's one of the most popular and most frequently staged plays on all world stages. We hope that our youngest audience will enjoy this play\, although the performance is receptive for other ages.\nLibretto: M. I. Petipa after tale of T. A. Hofmann\nChoreography: Vasily Ivanovich Vainonen (Russia)\nChoreography adaptation:Mihail Krapivin (Russia)\nSet designer: Anatoly Nezhnji (Russia)\nCostume: Ljupka Ristovska\nRepetitours: Goran Bozhinov\, Aleksandra Mijalkova\, Vasil Chichiashvili\, Natasha Josifovska\, Biljana Pasharikovska\, Dafina Daniloska\nCast:\nClara: Marija Kichevska Shokarovska\nPrince: Francisco Himenez Ruiz (Spain)\nLittle Clara: \nBrother:\nFEATURED SOLOISTS\, THE BALLET ENSEMBLE OF THE NATIONAL OPERA AND BALLET AND CHILDREN FROM THE BALLET DEPARTMENT OF DMBUC "ILIJA NIKOLOVSKI-LUJ" 
URL:https://operabalet.mk/en/event/the-nutcracker-p-i-tchaikovsky-31-1-2023/
LOCATION:Array
CATEGORIES:ballet
ATTACH;FMTTYPE=image/jpeg:https://operabalet.mk/en/wp-content/uploads/sites/2/2018/01/orevkrsacka.jpg
END:VEVENT
END:VCALENDAR