BEGIN:VCALENDAR
VERSION:2.0
PRODID:-//National opera and ballet - ECPv4.0.7//NONSGML v1.0//EN
CALSCALE:GREGORIAN
METHOD:PUBLISH
X-WR-CALNAME:National opera and ballet
X-ORIGINAL-URL:https://operabalet.mk/en
X-WR-CALDESC:Events for National opera and ballet
BEGIN:VEVENT
DTSTART;TZID="UTC+0":20241227T180000
DTEND;TZID="UTC+0":20241227T200000
DTSTAMP:20260423T095722
CREATED:20241217T095252
LAST-MODIFIED:20241217T095252
UID:1555-1735322400-1735329600@operabalet.mk
SUMMARY:THE NUTCRACKER - Pyotr Ilyich Tchaikovsky (27.12.2024)
DESCRIPTION:\nPyotr Ilyich Tchaikovsky\nTHE NUTCRACKER\n27.12.2024 - 18 p.m.\nChoreographer: Vasily Ivanovich Vainonen (Russia)\nChoreographic adaptation: Mikhail Krapivin (Russia)\nScenographer: Anatoly Nezhny (Russia)\nCostume designer: Ljupka Ristovska\nRepetitours: Volodymyr Borisov (Ukraine)\, Aleksandra Mijalkova\, Goran Bozhinov\, Dafina Daniloska-Kochevska\, Sasha Evtimova\, Marija Josifovska Ristovska\, Maja Mitrovska-Bogojevska\nPerforming:\nClara: Hristina Nakjevska Mitrashinovikj\nPrince: Balazs Locei (Hungary)\nFeatured soloists\, corps de Ballet of the National Opera & Ballet and students of State Musical School - Ilija Nikolovski Luj
URL:https://operabalet.mk/en/event/the-nutcracker-pyotr-ilyich-tchaikovsky-27-12-2024/
LOCATION:Array
CATEGORIES:ballet
ATTACH;FMTTYPE=image/jpeg:https://operabalet.mk/en/wp-content/uploads/sites/2/2017/01/orevokrshacka.jpg
END:VEVENT
END:VCALENDAR