BEGIN:VCALENDAR
VERSION:2.0
PRODID:-//National opera and ballet - ECPv4.0.7//NONSGML v1.0//EN
CALSCALE:GREGORIAN
METHOD:PUBLISH
X-WR-CALNAME:National opera and ballet
X-ORIGINAL-URL:https://operabalet.mk/en
X-WR-CALDESC:Events for National opera and ballet
BEGIN:VEVENT
DTSTART;TZID="UTC+0":20250128T190000
DTEND;TZID="UTC+0":20250128T210000
DTSTAMP:20260423T150105
CREATED:20250103T125338
LAST-MODIFIED:20250113T113211
UID:1563-1738090800-1738098000@operabalet.mk
SUMMARY:THE NUTCRACKER - Pyotr Ilyich Tchaikovsky (28.1.2025)
DESCRIPTION:Associated with the celebration of the great holidays. Based on the fairy tale Marius Petipa wrote the libretto and the music was composed by Pyotr Ilyich Tchaikovsky. It's one of the most popular and most frequently staged plays on all world stages. We hope that our youngest audience will enjoy this play\, although the performance is receptive for other ages.\nLibretto: M. I. Petipa after tale of T. A. Hofmann\nChoreography: Vasily Ivanovich Vainonen (Russia)\nChoreography adaptation:Mihail Krapivin (Russia)\nSet designer: Anatoly Nezhnji (Russia)\nCostume: Ljupka Ristovska\nConcert master:\nRepetitours: Volodymyr Borisov (Ukraine)\, Alexandra Mijalkova\, Goran Bozhinov\, Dafina Daniloska-Kochevska\, Sasha Evtimova\, Maria Josifovska Ristovska\, Maja Mitrovska-Bogojevska\nCast:\nClara: Marija Kichevska Shokarovska\nPrince: Francisco Himenez Ruiz\nFeatured soloists corps de Ballet and  students of State Musical School - Ilija Nikolovski Luj\nSynopsis "The Nutcracker"\nAct I\nThe action takes place in an old German town\, at the beginning of the last century. Evening\, the eve of Christmas. The street is cheerful and festive. Among those invited to the holiday around the Christmas tree is the old toy maker\, a friend of the children\, Drosermeier. The Stahlbaum family's guest room is decorated festively. The guests gather. Drosermeier enters\, bringing gifts with him. Everything is ready for the holiday. Children enter. The game of hide-and-seek begins. Drosermeier joins them\, he is blindfolded and is the first to catch Clara\, Stahlbaum's daughter. After the game\, the dancing begins. Drosermeier appears in a magician's costume. He shows his magic and performs a puppet show. The Mouse King wants to steal the princess\, but the brave Nutcracker kills the Mouse King. Drosermeier tirelessly invents other games. He shows the children the puppet - the Moor in the Wind. Clara likes the Nutcracker the most. Franz takes the Nutcracker away from Clara\, but only the doll's disfigured head remains in his hands. Drosermeier quickly repairs the puppet. Clara strokes it and calms the offended pet. It is late\, the guests are leaving. The ball ends with dancing. Clara says goodbye to the Nutcracker\, the lights on the Christmas tree are turned off. The nanny takes Clara to bed. She has a dream about mice occupying the guest room\, led by their king. The Nutcracker leads the tin soldiers and attacks.\nClara follows him\, overcomes her fear\, resolutely throws the shoe at the mouse king and thus saves the Nutcracker. The mouse king is defeated and disappears with his army. Drosermeier transforms Clara into a beautiful girl\, and the Nutcracker into a handsome boy. The journey to the land of fairy tales begins. Snow falls…\nAct II\nClara and the Nutcracker find themselves on the magic island. The holiday begins. Clara and the Nutcracker are happy. They dance together with everyone. Morning is approaching. The magical dream ends\, Clara wakes up.
URL:https://operabalet.mk/en/event/the-nutcracker-pyotr-ilyich-tchaikovsky-28-1-2025/
LOCATION:Array
CATEGORIES:ballet
ATTACH;FMTTYPE=image/jpeg:https://operabalet.mk/en/wp-content/uploads/sites/2/2017/01/orevokrshacka.jpg
END:VEVENT
END:VCALENDAR