BEGIN:VCALENDAR
VERSION:2.0
PRODID:-//National opera and ballet - ECPv4.0.7//NONSGML v1.0//EN
CALSCALE:GREGORIAN
METHOD:PUBLISH
X-WR-CALNAME:National opera and ballet
X-ORIGINAL-URL:https://operabalet.mk/en
X-WR-CALDESC:Events for National opera and ballet
BEGIN:VEVENT
DTSTART;TZID="UTC+0":20240127T120000
DTEND;TZID="UTC+0":20240127T130000
DTSTAMP:20260423T123628
CREATED:20240117T154024
LAST-MODIFIED:20240117T154142
UID:1444-1706356800-1706360400@operabalet.mk
SUMMARY:THE OPERA OF THE ANIMALS OF THE FOREST (27.1.2024)
DESCRIPTION:\nTHE OPERA OF THE ANIMALS OF THE FOREST\n(CHILDREN'S INTERACTIVE MUSICAL PERFORMANCE)\n27.01.2023 – 12.00\nTarget group: children aged 06–11 years\nDuration of the performance: 1 hour\nIdea concept\, screenplay and direction: Desanka Gligorijevic\nCostume design and scenography: Desanka Gligorijevic\nStage manager: Dragan Kostadinović\nLight design: Nino Mitevski\nAudio design: Bozidar Ilijoski\, Dragi Dimitrovski\nPerforming:\nLiska – Biljana Kamcheva\nMetsa – Marika Popovic\nZajko - Jane Dunimagloski\nBuf– Neven Siljanovski\nAn interactive musical-dramatic show that aims to introduce/educate the youngest audience\, primarily with terms related to opera art (composer\, director\, soloists\, choir...)\nThe script abounds with many comedic moments\, which take place as the forest animals try to create an operatic performance.\nThe musical part is filled with adapted popular arias from the operas: Carmen\, Pagliacci\, Aida\, Traviata\, Rita and many other arias and instrumental compositions with adapted text as a script.\n
URL:https://operabalet.mk/en/event/the-opera-of-the-animals-of-the-forest-27-1-2024/
LOCATION:Array
CATEGORIES:opera
ATTACH;FMTTYPE=image/jpeg:https://operabalet.mk/en/wp-content/uploads/sites/2/2024/01/shumski_zivotni.jpg
END:VEVENT
END:VCALENDAR