BEGIN:VCALENDAR
VERSION:2.0
PRODID:-//National opera and ballet - ECPv4.0.7//NONSGML v1.0//EN
CALSCALE:GREGORIAN
METHOD:PUBLISH
X-WR-CALNAME:National opera and ballet
X-ORIGINAL-URL:https://operabalet.mk/en
X-WR-CALDESC:Events for National opera and ballet
BEGIN:VEVENT
DTSTART;TZID="UTC+0":20170614T200000
DTEND;TZID="UTC+0":20170614T210000
DTSTAMP:20260423T061539
CREATED:20170606T072511
LAST-MODIFIED:20170610T074614
UID:538-1497470400-1497474000@operabalet.mk
SUMMARY:THE RED ROOM - MODERN BALLET BY IGOR KIROV (14.06.2017)
DESCRIPTION:\n\n\nThe world in “The Red Room”\n\nLibretto: Sasho Dimoski\n\nThe libretto of the modern ballet "The Red Room" is inspired by Franz Schubert’s String Quartet No. 14\, known as “Death and the Maiden”. Starting from the famous motive\, which has had several stage and screen adaptations\, the plot of the story is developed further: the Death\, who longs for love and unity arrives among the people\, falls in love with the Prophet\, cuts his ties to the earthly world and brings him to the Underworld - the world of the Red Room. This initiaton of the Prophet has a double plot progress: in her quest of the Prophet and in attempt to bring him back to the earthly world\, the Maiden begins her initiation journey. In the underworld\, she succeeds in winning back her lost love and takes the Prophet back to the earthly world\, whereas the Death remains alone\, pining for her unity\, surrounded by the solitude and emptiness of her own world. In addition to this triad\, the other actors in the libretto are presented to the audience through certain states and feelings\, rather than through characters and names. They represent the contrast: the earthly versus the under-worldly. On one hand\, “The Red Room” is a stage experiment about the eternal love for unity and need for belonging\, and on the other hand – it is a story about the solitude as the only form of absolute belonging\, represented through the speech of a body in crisis.\n\n\n\nMusic: Franz Schubert\nChoreography: Igor Kirov\nAss. Choreography: Mojca Majcen (Slovenia)\nSet Design: Marija Veterova\nCostumeDesign: Aleksandar Noshpal\nRepetitours: Tanja Vujisikj-Todorovska\, Sasha Evtimova\, Olga Pango\nLight designer: Milcho Aleksandrov\n\n \n\n\nCAST:\nThe Death: Aleksandra Mijalkova\nThe Prophet: Vasil Chichiashvili (Georgia)\nThe Maiden: Mimi Pop Aleksova-Atanasovska\nSuite of Death: Marija Kichevska-Shokarovska & Boban Kovachevski\nCrowd: Ivana Kocevska\, Sasha Evtimova\, Biljana Basmadzieva\, Doychin Dochev (Bulgaria)\, Igor Velanoski\, Jan Kisilev\, Agim Baftii\, Ilijana Danilov\n\nAbout “The Red Room”\n\n“The Red Room” represents a completely different “shade” of my creativity\, a completely different energy and creative concept. In this work\, I use the body as an instrument in the expression of many different emotional states\, which are contained in a musical whole performed solely by four string instruments. The music of Schubert expressed through my movements depicts a view on the eternal search for the unique\, unattainable\, perfect state; something that we look in ourselves\, but find in others. This is my story about the longing for love…fear of the unknown.\n\n \n\nIgor Kirov - coreographer
URL:https://operabalet.mk/en/event/the-red-room-modern-ballet-by-igor-kirov-14-06-2017/
LOCATION:Blvd. Goce Delchev 4\, Skopje\, 1000\, Macedonia
CATEGORIES:ballet
ATTACH;FMTTYPE=image/jpeg:https://operabalet.mk/en/wp-content/uploads/sites/2/2017/06/red-room.jpg
END:VEVENT
END:VCALENDAR