BEGIN:VCALENDAR
VERSION:2.0
PRODID:-//National opera and ballet - ECPv4.0.7//NONSGML v1.0//EN
CALSCALE:GREGORIAN
METHOD:PUBLISH
X-WR-CALNAME:National opera and ballet
X-ORIGINAL-URL:https://operabalet.mk/en
X-WR-CALDESC:Events for National opera and ballet
BEGIN:VEVENT
DTSTART;TZID="UTC+0":20170326T200000
DTEND;TZID="UTC+0":20170326T223000
DTSTAMP:20260425T201415
CREATED:20170210T222446
LAST-MODIFIED:20170301T113517
UID:445-1490558400-1490567400@operabalet.mk
SUMMARY:"THE SECRET OF MINE" - Musical in the honor of Toshe Proeski (26.03.2017)
DESCRIPTION:The premiere and reprise of the musical "My Secret" in honor of Tose Proeski\, which were scheduled for 10 and 21.03.2017 are rescheduled to 24 (Friday) and March 26 (Sunday)\, and a third performance is scheduled on Tuesday 03/28/2017 .\n\nConductor: Ivan Eminovikj\nLibretto: Ognen Nedelkovski\nDirector: Toni Mihajlovski\nSet design: Marija Veteroska\nCostume design: Marija Pupuchevska\nMusic arrangements: Kokan Dimusevski\, Soni Petrovski\nChoreographer: Olga Pango\nAss.Choreographer:Irena Lozinska\nAss.Director: Dejan Proshev\, Ljupka Jakimovska\nAss. chorus master: Gjurgjica Stojcevska Jasmina Gjorgjeska\nLight design: Vasko Lisichov\n\nPERFORMING:\nAntonia Gigovska\, Denis Dimovski\, Jana Stojanovska Aleksandar Tarabunov\, Igor Dzambazov\, Vesna Petrushevska\, Arna Shijak\, Dejan Lilic\, Laze Manaskov Sara Gigova\, Helena Mochevikj\, Ljupka Arsova Tanja Bojковска\, Mila Nikoloвska\, Anastasiјa Avramovska\, Simeon Korunoski\, Jane Dunimagloski Riste Gavroski\, Markо Dimitrievski\, Marjan Stojanovski and others.\n\nPerorming Orchestra\, Choir and the Ballet of MOB\n\nMusical "The Secret of mine" is a project in co-production with the foundation "Tose Proeski" in honor of the biggest Macedonian music star on the 10th anniversary of his untimely death.\n\nThe musical follows the love story of a young couple. Their love blazes for a moment\, but their differences will bring their love in question ... Macedonian "Romeo and Juliet"\, placed in the transition period\, the beginning of the 21st century. Time when love caresses them and win all hearts through the notes and lyrics of Tose Proeski songs. But can love and music save the world? The  two acts of the musical "THE SECRET OF MINE" will try to answer this question and many more issues related to friendship\, malice\, greed\, loneliness\, desire to succeed\, fear\, hope and love.\n\nThe musical is based on many music hits  by Tose Proeski.
URL:https://operabalet.mk/en/event/the-secret-of-mine-musical-in-the-honor-of-toshe-proeski-21-03-2017/
LOCATION:Blvd. Goce Delchev 4\, Skopje\, 1000\, Macedonia
CATEGORIES:opera
ATTACH;FMTTYPE=image/jpeg:https://operabalet.mk/en/wp-content/uploads/sites/2/2017/01/tajno_web1.jpg
END:VEVENT
END:VCALENDAR