BEGIN:VCALENDAR
VERSION:2.0
PRODID:-//National opera and ballet - ECPv4.0.7//NONSGML v1.0//EN
CALSCALE:GREGORIAN
METHOD:PUBLISH
X-WR-CALNAME:National opera and ballet
X-ORIGINAL-URL:https://operabalet.mk/en
X-WR-CALDESC:Events for National opera and ballet
BEGIN:VEVENT
DTSTART;TZID="UTC+0":20160524T200000
DTEND;TZID="UTC+0":20160524T230000
DTSTAMP:20260425T031456
CREATED:20160410T204622
LAST-MODIFIED:20160522T153100
UID:145-1464120000-1464130800@operabalet.mk
SUMMARY:THE TALES OF HOFFMANN - Jacques Offenbach
DESCRIPTION:Les contes d'Hoffmann (The Tales of Hoffmann) is an opéra by Jacques Offenbach. The French libretto was written by Jules Barbier\, based on three short stories by E. T. A. Hoffmann. Hoffman himself is used as the main protagonist in the opera. Barbier and Michel Carré had previously written a play\, Les contes fantastiques d'Hoffmann\, which was produced at the Odéon Theatre in Paris in 1851\, and which Offenbach had seen...\n\nConductor: Janusz Przybylski (Poland)\nDirector: Ursula Horner (Austria)\nSet designer: Marija Veteroska\nCostume designer: Marija Pupuchevska\nChoreography: Ursula Horner and Olga Pango\nConcert master: Kliment Todoroski\nAss. Director: Trajko Jordanovski\, Ljupka Jakimovska\nAss. Costume designer: Marta Trendafilova\nAss. Chorus master: Gjurgica Dashikj\, Jasmina Gjorgjeska\nPiano Accompanists: Janinka Nevcheva\, Elena Siljanoska\, Andrej Naunov\nPrompters: Pavlina Zdravkova\, Svetlana Georgieva\nStage managers: Mirche Stojchevski\, Ljupcho Polizov\, Dragan Kostadinovikj\n\nCAST:\nHoffmann: Sebastián Ferrada (Uruguay)\nNicklausse: Nikolina Janevska\nOlympia: Ivana Zdravkova\nGiulietta: Olgica Milevska\nAntonia: Biljana Josifov\nLindorf\, Coppélius\, Dapertutto\, Dr.Miracle: Ernes Ibraimovski\nAndrès: Dejan Stoev\nCochenille: Nikola Stojchevski\nPitichinaccio: Dejan Stoev\nFrantz: Nikola Stojchevski\nLuther: Dime Petrov\nSpalanzani: Zoran Danilov\nCrespel: Vladimir Sazdovski\nThe Voice: Nadezhda Ruben\nSchlémil: Neven Siljanovski\n\nTHE TALES OF HOFFMANN\n\nSynopsis\n\nI ACT\n\nPROLOGUE\n\nA tavern in Nuremberg. The prima donna Stella\, currently performing Mozart's Don Giovanni sends a letter to Hoffmann (famous German writer)\, requesting a meeting in her dressing room after the performance. The letter and the key to the room are intercepted by Councillor Lindorf\, who is incarnation of evil\, Hoffmann's nemesis. Lindorf intends to replace Hoffmann at the rendezvous. In the tavern students are waiting for the famous poet\, Hoffmann. He\, with his friend Nicklausse\, phantasmagorical character\, who is Hoffmann guardian angel and his alter ego\, finally arrives and entertains them with the legend of Klainzach the dwarf (story based on the fairy tale “Klein Zaches genannt Zinnober”). Coaxed by Lindorf\, Hoffmann is telling the students about his life's three great loves.\n\n \n\n(Olympia)\n\nHoffmann's first love is Olympia\, an automaton created by the scientist Spalanzani. Hoffmann falls in love with her\, not knowing that Olympia is a mechanical doll. Nicklausse\, who knows the truth about Olympia\, sings a story of a mechanical doll that looked like a human to warn Hoffmann. But Hoffmann’s love enchantment prevents him to see the message. Coppélius\, the creator of Olympia's eyes and Spalanzani’s co-operator\, sells Hoffmann magic glasses which make Olympia appear as a real woman. Olympia sings one of the opera's most famous arias in which she periodically runs down and needs to be started up before she can continue. Hoffmann is tricked into believing that his affections are returned\, to the bemusement of Nicklausse\, who subtly tries to warn his friend. At the same time\, Coppélius appears and destroys Olympia\, in retaliation for having been tricked out by Spalanzani. With the crowd laughing at him\, Hoffmann realizes that he was in love with an automaton. This story is based on the work "Der Sandmann".\n\n \n\nII ACT\n\n(Giulietta)\n\nVenice. The act opens with the barcarolle (folk song sung by Venetian gondoliers). Hoffmann falls in love with the courtesan Giulietta and thinks his affections are returned. Giulietta is not in love with Hoffmann but only seducing him under the orders of Captain Dapertutto\, who has promised to give her a diamond if she filches Hoffmann's reflection from a mirror. Hoffmann meets Giulietta and cannot resist her and gives her his reflection. The jealous Schlemil\, a previous victim of Giulietta and Dapertutto (he gave Giulietta his shadow)\, challenges the poet to a duel\, but is killed. Abandoned by the courtesan\, to Dapertuto’s great pleasure Hoffmann finally finds himself. This story is based on “Die Abenteuer der Silvester-Nacht”.\n\n(Antonia)\n\nMunich. Hoffmann and Antonia loved each other\, but were separated when Crespel decided to hide his daughter from Hoffmann. Antonia has inherited her mother's talent for singing\, but her father forbids her to sing because of the mysterious illness from which she is suffering. Antonia wishes that her lover would return to her. Her father also forbids her to see Hoffmann\, who is encouraging Antonia in her musical career\, and is therefore a danger to her without knowing it. Crespel tells Frantz\, his servant\, to stay with his daughter. When Crespel leaves his house\, Hoffmann takes advantage of the occasion to sneak in\, and the lovers are reunited. When Crespel comes back\, he receives the visit of Dr Miracle\, the act's Nemesis\, who forces Crespel to let him heal Antonia. Still in the house\, Hoffmann listens to the conversation and learns that Antonia may die if she sings too much. He returns to her room to make her promise to give up her artistic dreams. Antonia reluctantly accepts her lover's will. Once she is alone\, Dr Miracle enters Antonia's room and tries to persuade her to sing and follow her mother's path to glory\, stating that Hoffmann is sacrificing her to his brutishness and loves her only for her beauty. He creates a vision of Antonia's dead mother and induces Antonia to sing\, causing her death. Crespel arrives just in time to witness his daughter's last breath. This act is based on "Rath Krespel"\n\nEPILOGUE\n\nThe tavern in Nuremberg. Hoffmann\, drunk\, swears he will never love again\, and explains that Olympia\, Antonia\, and Giulietta are three facets of a same person\, Stella\, his unrealized love. When Hoffmann says he does not want to love any more\, Nicklausse reveals himself and reclaims Hoffmann: "Be reborn a poet! I love you\, Hoffmann! Be mine!" The magic of poetry reaches Hoffmann as he sings "Muse whom I love\, I am yours!"
URL:https://operabalet.mk/en/event/the-tales-of-hoffmann-jacques-offenbach/
LOCATION:Blvd. Goce Delchev 4\, Skopje\, 1000\, Macedonia
CATEGORIES:opera
ATTACH;FMTTYPE=image/jpeg:https://operabalet.mk/en/wp-content/uploads/sites/2/2016/04/hofmanovi-prikazni.jpg
END:VEVENT
END:VCALENDAR