BEGIN:VCALENDAR
VERSION:2.0
PRODID:-//National opera and ballet - ECPv4.0.7//NONSGML v1.0//EN
CALSCALE:GREGORIAN
METHOD:PUBLISH
X-WR-CALNAME:National opera and ballet
X-ORIGINAL-URL:https://operabalet.mk/en
X-WR-CALDESC:Events for National opera and ballet
BEGIN:VEVENT
DTSTART;TZID="UTC+0":20210112T200000
DTEND;TZID="UTC+0":20210112T211500
DTSTAMP:20260423T140641
CREATED:20201228T114300
LAST-MODIFIED:20201229T101101
UID:1003-1610481600-1610486100@operabalet.mk
SUMMARY:TRADITIONAL CONCERT ON THE OCCASION OF “VASILITSA” (12.1.2021)
DESCRIPTION:\n\nThe National Opera and Ballet continues the tradition established more than 25 years ago\, and on Tuesday\, 12 and Wednesday\, 13 of January\, 2021  will hold a gala concert on the occasion of the holiday "Vasilica".\n\nThis year the concert is entitled "The greatest hits"\, and it is a selection of the best hits from the previous Vasilica concerts\, with symphonic arrangements. The audience will have the opportunity to enjoy popular foreign and Macedonian hits performed by opera and pop soloists\, accompanied by the orchestra of the National Opera and Ballet. Conductor is Bisera Chadlovska.\n\nRespecting the tradition of our people to celebrate the so-called "Old New Year"\, the National Opera and Ballet established this concert in 1993 and over the years it has become recognizable\, popular and one of the most visited events in our theatre.
URL:https://operabalet.mk/en/event/traditional-concert-on-the-occasion-of-vasilitsa-12-1-2020/
LOCATION:Array
CATEGORIES:Concert
ATTACH;FMTTYPE=image/jpeg:https://operabalet.mk/en/wp-content/uploads/sites/2/2020/12/vasilica-2021_ENG.jpg
END:VEVENT
END:VCALENDAR