BEGIN:VCALENDAR
VERSION:2.0
PRODID:-//National opera and ballet - ECPv4.0.7//NONSGML v1.0//EN
CALSCALE:GREGORIAN
METHOD:PUBLISH
X-WR-CALNAME:National opera and ballet
X-ORIGINAL-URL:https://operabalet.mk/en
X-WR-CALDESC:Events for National opera and ballet
BEGIN:VEVENT
DTSTART;TZID="UTC+0":20240113T200000
DTEND;TZID="UTC+0":20240113T223000
DTSTAMP:20260423T100222
CREATED:20231228T111009
LAST-MODIFIED:20240110T152756
UID:1435-1705176000-1705185000@operabalet.mk
SUMMARY:TRADITIONAL GALA CONCERT ON THE HOLIDAY "VASILICA" (13.1.2024)
DESCRIPTION:\nTRADITIONAL GALA CONCERT ON THE HOLIDAY "VASILICA" - 2024\nConductor: Claude Lapalme (Canada)\nDirector: Dejan Proshev\nConcert master: Jane Bakevski\nChoir master: Gjurgjica Dashikj / Jasmina Gjorgeska\nChoreographer: Sasha Eftimova\nStage managers: Ljupvho Polizov\, Dragan Kostadinovikj\, Marko Pavlevski\nPERFORMING:\nVesna Gjinovska Ilkova\, Sandra Mitrovska\, Blagica Pop Tomova\, Nade Talevska\, Nikolina Janevska\, Biljana Josifov\, Zoran Soirov\, Aleksandar Stefanoski\, Marjan Jovanoski\, Riste Velkov\, Igor Durlovski\, Vladimir Sazdovski\nPerforming: Soloists\, the choir\, the orchestra and the ballet of the National Opera and Ballet \n \nPROGRAM:\n1. P.I. Tchaikovsky - polonaise from the opera Eugene Onegin\nPerforms the ballet of the National Opera and Ballet\n2.E. Kalman aria of Countess Maritza from the operetta "Maritza"\nPerformed by Nade Talevska\n3. G. Rossini – Rosina's aria from the opera "The Barber of Seville"\nPerformed by Nikolina Janevska\n4. V.A. Mozart – Leporello's aria from the opera Don Giovanni\nPerformed by Vladimir Sazdovski\n5. G. Rossini – Don Basilio's aria from the opera "The Barber of Seville"\nPerformed by Igor Durlovski\n6. G. Puccini – Lauretta's aria from the opera "Gianni Schicchi"\nPerformed by Blagica Pop Tomova\n7. G. Verdi - Attila and Ezio duet from the opera "Attila"\nPerformed by Marjan Jovanoski and Aleksandar Stefanovski\n8. U. Giordano – aria by Andrea Chenier from the opera "Andrea Chenier"\nPerformed by Zoran Sotirov\n9. F. Lehar - Judith's aria from the opera "Judith"\nPerformed by Nade Talevska\n10. P. I. Tchaikovsky - Waltz of the Flowers from the "Nutcracker" ballet\nPerformed by the ballet of the National Opera and Ballet\n***PAUSE***\n11. S. Fucito – “Granada”\nPerformed by Vesna Ginovska Ilkova\n12. V.A.Mozart – duet of Don Giovanni and Leporello from the opera “Don Giovanni”\nPerformed by Igor Durlovski and Vladimir Sazdovski\n13. G. Bizet – Carmen’s aria from the opera “Carmen”\nPerformed by Nikolina Janevska\n14. G. Bizet – finale of the 4th act of the opera “Carmen”\nPerformed by the choir of the National Opera and Ballet\n15. V. Bellini – Norma’s (Casta Diva) aria from the opera “Norma”\nPerformed by Blagica Pop Tomova\n16. V. Bellini – a duet of Norma and Adalziza from the opera “Norma”\nPerformed by Vesna Ginovska Ilkova and Sandra Mitrovska\n17. S. Cardillo – Neapolitan song Core ‘ngrato\nPerformed by Marjan Jovanoski 18. G. Puccini – Cho Cho San’s aria from the opera “Madame Butterfly”\nPerformed by Sandra Mitrovska 19. E. di. Capua – Neapolitan song O’ Sole mio\nPerformed by Riste Velkov\n20. G. Puccini –La Rondine – Magda’s canzone\nPerformed by Biljana Josifov\n21. G. Verdi – the chorus of gypsies from the opera Troubadour\nPerformed by the choir at the National Opera and Ballet
URL:https://operabalet.mk/en/event/traditional-gala-concert-on-the-holiday-vasilica-13-1-2024/
LOCATION:Array
CATEGORIES:Concert
ATTACH;FMTTYPE=image/png:https://operabalet.mk/en/wp-content/uploads/sites/2/2023/12/Vasilica2024.png
END:VEVENT
END:VCALENDAR