BEGIN:VCALENDAR
VERSION:2.0
PRODID:-//National opera and ballet - ECPv4.0.7//NONSGML v1.0//EN
CALSCALE:GREGORIAN
METHOD:PUBLISH
X-WR-CALNAME:National opera and ballet
X-ORIGINAL-URL:https://operabalet.mk/en
X-WR-CALDESC:Events for National opera and ballet
BEGIN:VEVENT
DTSTART;TZID="UTC+0":20250527T200000
DTEND;TZID="UTC+0":20250527T230000
DTSTAMP:20260423T111109
CREATED:20250411T123900
LAST-MODIFIED:20250430T074442
UID:1617-1748376000-1748386800@operabalet.mk
SUMMARY:"Turandot" - Giacomo Puccini (27.5.2025)
DESCRIPTION:\n53 MAY OPERA EVENINGS\n"Turandot"\nGiacomo Puccini\n27.5.2025\nConductor: Gianluca Martinenghi (Italy)\nDirector / Set designer / Costume designer: Giancarlo del Monaco (Italy)\nLight designer: Wolfgang von Zoubek (Austria)\nChoreographer: Sasha Evtimova\nConcert Master: Jane Bakevski\nChorus master:  Gjurgica Dashikj\, Jasmina Gjorgjeska\nAss. conductor: Katerina Stojkovska\nAss. Director: Trajko Jordanovski\, Ljupka Jakimovska\nPiano Accompanists: Janinka Nevcheva\, Elena Siljanoska\, Andrej Naunov\, Gorjan Stojanovski\nStage managers: Dragan Kostadinovikj\, Marko Pavlevski\, Katerina Boshkovska\nPrompters: Nevena Georgieva\nCAST:\nTurandot: Veronika Dzhioeva (Russia)\nCalaf: Zi-Zhao Guo (China)\nLiù: Biljana Josifov\nTimur:  Vladimir Sazdovski\nPing: Dragan Ampov\nPang: Jane Dunimagloski\nPong: Dejan Stoev\nA Mandarin: Dime Petrov\nAltoum: Marjan Nikolovski\n The choir and orchestra of the National Opera and Ballet \n \nSynopsis\nTurandot is an opera in three acts by Giacomo Puccini\, set to a libretto in Italian by Giuseppe Adami and Renato Simoni. The text is based on Friedrich Schiller’s adaptation of the play Turandot by Carlo Gozzi. Turandot was unfinished by the time of Puccini's death\, and was later completed by Franco Alfano.The first performance was held at the Teatro alla Scala in Milan on 25 April 1926\, and conducted by Arturo Toscanini. This performance included only Puccini's music and not Alfano's additions.\nAct 1\nIn a legendary time\, at the square in front of the Forbidden City in Beijing\, China\, the Princess\, Turandot\, is a woman of great beauty\, but has a cold heart that is as cold as ice. She said\, “Any prince seeking to marry me must answer three riddles. But if he fails\, he will have to die.”\nAt the square\, a failed prince’s fate\, who is going to the guillotine\, excites a lot of the audience’s blood. In the crowd\, a vanquished king of Tartary\, Timur\, meets his long-lost son\, Prince Calaf\, again. Calaf falls in love with Turandot at first sight. He proclaims to try to answer her three riddles. One of Timur’s slave girls\, Liu\, attempts to stop his reckless resolve\, but his determination strengthens.\nAct 2\nTurandot appears\, and begins to ask Calaf her three riddles.\nQ1. What thing is reborn every night? ...A. ‘Hope’\nQ2. What burns hot\, but is not fire? ...A. ‘Blood’\nQ3. What ice can make fire? ...A. ‘Turandot’\nCalaf successfully answers her three riddles. Turandot is upset\, and refuses to marry him. Calaf says to her\, “If you can learn my name by dawn\, I will forfeit my life.”\nAct 3\nTurandot gives the crowd in Beijing an order not to sleep until someone learns his name. The people of Beijing frantically find out his name. They catch Liu. Turandot asks Liu why she never says his name. Liu answers that it is because of her love to him\, and kills herself.\nAfter the crowd goes home\, Turandot remains alone to confront Calaf. Then\, Calaf gives away his name to her.\nAt the break of dawn\, Turandot proclaims the victory to learn his name in front of the crowd. She says to the crowd\, “His name is …Love”\, and she then concedes defeat and marries him.
URL:https://operabalet.mk/en/event/turandot-giacomo-puccini-27-5-2025/
LOCATION:Array
CATEGORIES:opera
ATTACH;FMTTYPE=image/jpeg:https://operabalet.mk/en/wp-content/uploads/sites/2/2017/04/TEST-TURANDOT-e1458257534174.jpg
END:VEVENT
END:VCALENDAR