BEGIN:VCALENDAR
VERSION:2.0
PRODID:-//National opera and ballet - ECPv4.0.7//NONSGML v1.0//EN
CALSCALE:GREGORIAN
METHOD:PUBLISH
X-WR-CALNAME:National opera and ballet
X-ORIGINAL-URL:https://operabalet.mk/en
X-WR-CALDESC:Events for National opera and ballet
BEGIN:VEVENT
DTSTART;TZID="UTC+0":20160325T200000
DTEND;TZID="UTC+0":20160325T230000
DTSTAMP:20260424T100127
CREATED:20160323T235055
LAST-MODIFIED:20160325T132533
UID:91-1458936000-1458946800@operabalet.mk
SUMMARY:TURANDOT (premiere) - Giacomo Puccini
DESCRIPTION:Conductor: Gianluca Martinenghi (Italy)\n\nDirector /Set designer / Costume designer: Giancarlo del Monaco (Italy)\n\nLight designer: Wolfgang von Zoubek (Austria)\n\nChoreographer: Sasha Evtimova\n\nConcert Master: Verica Lambevska\n\nAss. Director: Helene Sacconaghi (Italy)\,  Trajko Jordanovski\, Ljupka Jakimovska\n\nAss. Set Designer / Costume designer: Agostino Sachi (Italy)\n\nAss. Chorus Masters: Jasmina Gjorgjeska\, Gjurgjica Dashikj\n\n \nCAST:\nTurandot: Gabrielle Mоuhlan (Holand)\nCalaf: Kristian Benedikt (Lithuania)\nLiù: Valeria Sepe (Italy)\nTimur: Igor Durlovski\nPing: Kristijan Antovski\nPang: Darko Neshovski\nPong: Dejan Stoev\nUn Mandarino: Vladimir Sazdovski\nAltoum: Marjan Nikolovski\nIl Principe di Persia: Darko Neshovski\nGuardie imperiali: Tihomir Jakimovski\nSynopsis\nAct 1\nIn a legendary time\, at the square in front of the Forbidden City in Beijing\, China\, the Princess\, Turandot\, is a woman of great beauty\, but has a cold heart that is as cold as ice. She said\, “Any prince seeking to marry me must answer three riddles. But if he fails\, he will have to die.”\nAt the square\, a failed prince’s fate\, who is going to the guillotine\, excites a lot of the audience’s blood. In the crowd\, a vanquished king of Tartary\, Timur\, meets his long-lost son\, Prince Calaf\, again. Calaf falls in love with Turandot at first sight. He proclaims to try to answer her three riddles. One of Timur’s slave girls\, Liu\, attempts to stop his reckless resolve\, but his determination strengthens.\n\nAct 2\nTurandot appears\, and begins to ask Calaf her three riddles.\nQ1. What thing is reborn every night? ...A. ‘Hope’\nQ2. What burns hot\, but is not fire? ...A. ‘Blood’\nQ3. What ice can make fire? ...A. ‘Turandot’\nCalaf successfully answers her three riddles. Turandot is upset\, and refuses to marry him. Calaf says to her\, “If you can learn my name by dawn\, I will forfeit my life.”\n\nAct 3\nTurandot gives the crowd in Beijing an order not to sleep until someone learns his name. The people of Beijing frantically find out his name. They catch Liu. Turandot asks Liu why she never says his name. Liu answers that it is because of her love to him\, and kills herself.\nAfter the crowd goes home\, Turandot remains alone to confront Calaf. Then\, Calaf gives away his name to her.\nAt the break of dawn\, Turandot proclaims the victory to learn his name in front of the crowd. She says to the crowd\, “His name is …Love”\, and she then concedes defeat and marries him.\n\nTURANDOT CATALOG
URL:https://operabalet.mk/en/event/turandot-premiere/
LOCATION:Blvd. Goce Delchev 4\, Skopje\, 1000\, Macedonia
CATEGORIES:opera
ATTACH;FMTTYPE=image/jpeg:https://operabalet.mk/en/wp-content/uploads/sites/2/2016/03/skica-scenografija-1024x502.jpg
END:VEVENT
END:VCALENDAR