BEGIN:VCALENDAR
VERSION:2.0
PRODID:-//National opera and ballet - ECPv4.0.7//NONSGML v1.0//EN
CALSCALE:GREGORIAN
METHOD:PUBLISH
X-WR-CALNAME:National opera and ballet
X-ORIGINAL-URL:https://operabalet.mk/en
X-WR-CALDESC:Events for National opera and ballet
BEGIN:VEVENT
DTSTART;TZID="UTC+0":20220113T200000
DTEND;TZID="UTC+0":20220113T220000
DTSTAMP:20260423T113307
CREATED:20211227T141605
LAST-MODIFIED:20220111T112739
UID:1147-1642104000-1642111200@operabalet.mk
SUMMARY:VIVA L’OPERA! - Traditional concert on the occasion of "Vasilica" (13.1.2022)
DESCRIPTION:\nTraditional concert on the occasion of "Vasilica"\nVIVA L’OPERA!\nGala opera concert\n 12 and 13 January 2022\, 8 p.m.\nConductors:\nBisera Chadlovska\nIvan Eminovokj\nDirector:\nDejan Proshev\nLight design:\nNino Mitevski\nConcert Master:\nKliment Todoroski\nChoir Master:\nJasmina Gjorgjeska\nPerforming:\nSandra Mitrovska - soprano\nNade Talevska - soprano\nBiljana Josifov - soprano\nZlata Toshevska - soprano\nGjorgji Cuckovski - tenor\nMarjan Jovanoski - baritone\nAleksandar Stefanoski - bass\nThe choir and orchestra of the National Opera and Ballet\nThe program will feature arias\, duets and choral sections from operas and operettas by the composers Mozart\, Bellini\, Delib\, Puccini\, Verdi\, Giordano\, Leoncavallo\, Kalman\, Lehar.
URL:https://operabalet.mk/en/event/viva-lopera-traditional-concert-on-the-occasion-of-vasilica-13-1-2022/
LOCATION:Array
CATEGORIES:Concert
ATTACH;FMTTYPE=image/jpeg:https://operabalet.mk/en/wp-content/uploads/sites/2/2021/12/vasilica-2022.jpg
END:VEVENT
END:VCALENDAR