BEGIN:VCALENDAR
VERSION:2.0
PRODID:-//National opera and ballet - ECPv4.0.7//NONSGML v1.0//EN
CALSCALE:GREGORIAN
METHOD:PUBLISH
X-WR-CALNAME:National opera and ballet
X-ORIGINAL-URL:https://operabalet.mk/en
X-WR-CALDESC:Events for National opera and ballet
BEGIN:VEVENT
DTSTART;TZID="UTC+0":20161126T200000
DTEND;TZID="UTC+0":20161126T220000
DTSTAMP:20260424T174802
CREATED:20161101T132700
LAST-MODIFIED:20161104T111239
UID:364-1480190400-1480197600@operabalet.mk
SUMMARY:ZJM Jazz Orchestra plays the BEATLES
DESCRIPTION:The concert "ZJM Jazz Orchestra plays the BEATLES" includes performances of compositions by the famous Beatles but this time with jazz arrangements by Alan Bejlok\, Mike Kraut and Mike Holober\, giving it a different and more complex overtones. The concert will include famous songs such: Can't buy me love\, Get Back\, Hard Day's Night\, Hey Jude\, Lady Madonna and many others.\n\nConductor: Sigi Feigl (Austria)\n\nZJM Jazz Orchestra\, which has existed since the formation of the Association of free jazz musicians and artists\, is composed of 17 relatively young Macedonian jazz musicians that have built music careers in the country and beyond\, playing in different bands. This will be their first introduction to the Macedonian audience in its composition and the Austrian conductor Sigi Feigl is called especially for this occasion. Sigi Feigl  teaches at the University of Music and Performing Arts in Graz and for many years worked with the Big Band compositions across Europe.
URL:https://operabalet.mk/en/event/zjm-jazz-orchestra-plays-the-beatles/
LOCATION:Blvd. Goce Delchev 4\, Skopje\, 1000\, Macedonia
CATEGORIES:Concert
ATTACH;FMTTYPE=image/jpeg:https://operabalet.mk/en/wp-content/uploads/sites/2/2016/11/betles-black.jpg
END:VEVENT
END:VCALENDAR