BEGIN:VCALENDAR
VERSION:2.0
PRODID:-//Национална опера и балет - ECPv4.0.7//NONSGML v1.0//EN
CALSCALE:GREGORIAN
METHOD:PUBLISH
X-WR-CALNAME:Национална опера и балет
X-ORIGINAL-URL:https://operabalet.mk
X-WR-CALDESC:Events for Национална опера и балет
BEGIN:VEVENT
DTSTART;TZID="UTC+0":20200531T200000
DTEND;TZID="UTC+0":20200531T223000
DTSTAMP:20260424T014134
CREATED:20200508T054221
LAST-MODIFIED:20200529T172334
UID:2775-1590955200-1590964200@operabalet.mk
SUMMARY:АИДА - ЏУЗЕПЕ ВЕРДИ (31.5.2020)
DESCRIPTION:\nОНЛАЈН МОВ 2020\nПочитувани пријатели и соработници\,  љубители на оперската и балетска уметност\, почитувани наши редовни посетители на Мајските оперски вечери\,\nОваа година ќе ги одбележиме Мајските оперски вечери на еден поинаков начин\, со надеж што поскоро да се вратиме на нашата сцена и зад неа. На нашиот официјален YouTube канал\, ќе имате можност да проследите 10 наши продукции\, 8 оперски и 2 балетски\, со кои ќе ги одбележиме Мајските оперски вечери\,  фестивалот кој е најзначаен за Националната опера и балет.\nЗа распоредот на закажаните дигитални премиери следете ја нашата веб страна www.operabalet.mk\, и претплатете се на нашиот официјален јутјуб канал www.youtube.com/user/makoib.\n*Претставата е  архивска работна снимка во рамките на фестивалот „Мајски оперски вечери“ 2012\n \n\n \nЏузепе Верди\n   „Аида“\n   31.5.2012\nДиригент: Оливер Балабурски\nРежисер: Дејан Прошев\nСценограф: Зоран Костовски\nКостимограф: Елена Дончева\nКореограф: Снежана Филиповска\nКаст:\nАида: Гвенет – Ан Џеферс (Обединето Кралство)\nРадамес: Леонардо Грамења (Италија)\nАмнерис: Фредрика Брилембург (САД)\nРамфис: Игор Дурловски\nФараон: Владимир Саздовски\nАмонасро: Џанфранко Монтрезор (Италија)\nГлавна свештеничка: Олгица Милевска\nГласник: Марјан Николовски\nСолисти на Балетот: Марија Кичевска и Бобан Ковачевски\nОркестарот\, хорот и балетскиот ансамбл на Национална опера и балет\n*************************************************************************\nConductor: Oliver Balaburski\nDirector: Dejan Proshev\nSet design: Zoran Kostovski\nCostume design: Elena Doncheva\nChoreographer: Snezhana Filipovska\nCast:\nAida: Gweneth-Ann Jeffers (UK)\nRadames: Leonardo Gramegna (Italy)\nAmneris: Fredrika Brillembourg (USA)\nRamfis: Igor Durlovski\nIl Re: Vladimir Sazdovski\nAmonasro: Gianfranco Montresor (Italy)\nSacerdotessa: Olgica Milevska\nUn Messaggero: Marjan Nikolovski\nBallet Solists: Marija Kichevska & Boban Kovachevski\nThe Choir\, corps de ballet & orchestra of National Opera & Ballet\n
URL:https://operabalet.mk/event/%d0%b0%d0%b8%d0%b4%d0%b0-%d1%9f%d1%83%d0%b7%d0%b5%d0%bf%d0%b5-%d0%b2%d0%b5%d1%80%d0%b4%d0%b8-31-5-2020/
LOCATION:Array
CATEGORIES:опера
ATTACH;FMTTYPE=image/jpeg:https://operabalet.mk/wp-content/uploads/2016/04/044045_Aida_31-05-14-e1463931678412.jpg
END:VEVENT
END:VCALENDAR