BEGIN:VCALENDAR
VERSION:2.0
PRODID:-//Национална опера и балет - ECPv4.0.7//NONSGML v1.0//EN
CALSCALE:GREGORIAN
METHOD:PUBLISH
X-WR-CALNAME:Национална опера и балет
X-ORIGINAL-URL:https://operabalet.mk
X-WR-CALDESC:Events for Национална опера и балет
BEGIN:VEVENT
DTSTART;TZID="UTC+0":20210531T203000
DTEND;TZID="UTC+0":20210531T220000
DTSTAMP:20260423T140635
CREATED:20210519T105515
LAST-MODIFIED:20210527T095523
UID:3074-1622493000-1622498400@operabalet.mk
SUMMARY:„Аида“  - Џузепе Верди (31.5.2021\, концертна изведба)
DESCRIPTION:\n„Аида“\n Џузепе Верди\nКонцертна изведба\n31.05.2021 - 20:30ч\, Плато пред Национална опера и балет\nРемек делото „Аида“ е една од највеличествените оперски творби во музичката литература. Во музичка смисла „Аида“\, според музиколозите е музичко чудо составено од мелодиска убавина и имагинативна оркестрација\, накратко триумф на творечката имагинација. Овој пат\, заради состојбата со пандемијата и пропратните протоколи\, грандиозната „Аида“ е конципирана во поинакво руво\, во скратена концертна верзија\, со мошне внимателен избор на оркестарски и солистички фрагменти\, притоа не нарушувајќи ја главната нитка на содржинскиот набој.\nДиригент: Бисера Чадловска\nРежисер: Дејан Прошев\nКонцерт-мајстор: Верица Ламбевска\nСветло мајстор: Милчо Александров\nХор-мајстор: Ѓурѓица Дашиќ\, Јасмина Ѓорѓеска\nКорепетитори: Елена Сиљаноска\, Јанинка Невчева\, Андреја Наунов\nИнспициенти: Љупчо Полизов\, Драган Костадиновиќ\, Марко Павлевски\nНастапуваат:\nAида: Благица Поп Томова\nРадамес: Зоран Сотиров\nАмнерис: Даниела Дјакова - Бугарија\nРамфис: Игор Дурловски\nФараон: Владимир Саздовски\nАмонасро: Марјан Јованоски\nГлавна свештеничка: Александра Лазаревска Василевски\nХорот и оркестарот на Национална опера и балет\n*************************************************************************************\n*Настанот ќе се одржи според протоколите предвидени со моменталната состојба предизвикана од пандемијата Ковид-19 за одржување настани\, одобрени од Комисијата за заразни болести. Задолжително е носење на заштитна маска.\nВе молиме\, почитувајте ги мерките за заштита.
URL:https://operabalet.mk/event/%d0%b0%d0%b8%d0%b4%d0%b0-%d1%9f%d1%83%d0%b7%d0%b5%d0%bf%d0%b5-%d0%b2%d0%b5%d1%80%d0%b4%d0%b8-31-5-2021-%d0%ba%d0%be%d0%bd%d1%86%d0%b5%d1%80%d1%82%d0%bd%d0%b0-%d0%b8%d0%b7%d0%b2/
LOCATION:Array
CATEGORIES:концерт,опера
ATTACH;FMTTYPE=image/jpeg:https://operabalet.mk/wp-content/uploads/2021/05/aida_slide.jpg
END:VEVENT
END:VCALENDAR