BEGIN:VCALENDAR
VERSION:2.0
PRODID:-//Национална опера и балет - ECPv4.0.7//NONSGML v1.0//EN
CALSCALE:GREGORIAN
METHOD:PUBLISH
X-WR-CALNAME:Национална опера и балет
X-ORIGINAL-URL:https://operabalet.mk
X-WR-CALDESC:Events for Национална опера и балет
BEGIN:VEVENT
DTSTART;TZID="UTC+0":20160531T200000
DTEND;TZID="UTC+0":20160531T235500
DTSTAMP:20260424T224942
CREATED:20160408T065618
LAST-MODIFIED:20160522T132920
UID:397-1464724800-1464738900@operabalet.mk
SUMMARY:АИДА -Џузепе Верди
DESCRIPTION:Египет\, Мемфис и Теба во фараонско време. Аида\, етиописка робинка на египетската принцеза Амнерис\, го сака Радамес\, војсководец кој треба да командува во војната против Етиопија. Амнерис\, исто така вљубена во Радамес\, ја измамува Аида и ја дознава тајната на нејзината љубов. Радамес триумфално се враќа и за награда ја добива раката на Амнерис. Прикриен меѓу заробениците е Амонасро\, крал на Етиопија – таткото на Аида. Тој ја тера ќерка си да ги дознае тајните воени патишта од Радамес. Ненамерното предавство на Радамес е откриено од Амнерис. Главниот свештеник Рамфис го осудува да биде жив закопан во гробницата. Аида успева да влезе во гробницата за да ја сподели судбината со саканиот.\n\nДиригент: Иво Липановиќ (Хрватска)\nРежисер: Дејан Прошев\nСценограф: Зоран Костовски\nКостимограф: Елена Дончева\nКореограф: Снежана Филиповска\nКонцерт-мајстор: Верица Ламбевска\nАсс. Хор-мајстор: Ѓурѓица Стојчевска\, Јасмина Ѓорѓеска\nКорепетитори: Елена Сиљаноска\, Јанинка Невчева\, Андреј Наунов\nИспициенти:  Мирче Стојчевски\, ЉупчоПолизов\, Драган Костадиновиќ\nСуфлери: Павлина Здравкова\, Светлана Георгиева\n\nНАСТАПУВААТ:\nAида: Весна Ѓиновска-Илкова\nАмнерис: Дина Хамзина (Казахстан)\nРадамес: Рубенс Пелизари (Италија)\nРамфис: Игор Дурловски\nФараон: Котецу Казахиро (Јапонија)\nАмонасро: Марјан Јованоски\nГлавна свештеничка: Надежда Рубен\nГласник: Марјан Николовски\nБалет солисти: Ивана Коцевска\, Дојчин Дочев (Бугарија)\nНастапува хорот\, оркестарот и балетскиот ансамбл на МОБ
URL:https://operabalet.mk/event/%d0%b0%d0%b8%d0%b4%d0%b0-%d1%9f%d1%83%d0%b7%d0%b5%d0%bf%d0%b5-%d0%b2%d0%b5%d1%80%d0%b4%d0%b8/
LOCATION:бул. Гоце Делчев бр.4\, Скопје\, Скопје\, 1000\, Macedonia
CATEGORIES:опера
ATTACH;FMTTYPE=image/jpeg:https://operabalet.mk/wp-content/uploads/2016/04/044045_Aida_31-05-14-e1463931678412.jpg
END:VEVENT
END:VCALENDAR