BEGIN:VCALENDAR
VERSION:2.0
PRODID:-//Национална опера и балет - ECPv4.0.7//NONSGML v1.0//EN
CALSCALE:GREGORIAN
METHOD:PUBLISH
X-WR-CALNAME:Национална опера и балет
X-ORIGINAL-URL:https://operabalet.mk
X-WR-CALDESC:Events for Национална опера и балет
BEGIN:VEVENT
DTSTART;TZID="Europe/Skopje":20220302T200000
DTEND;TZID="Europe/Skopje":20220302T220000
DTSTAMP:20260423T140641
CREATED:20220209T144421
LAST-MODIFIED:20220210T105850
UID:3415-1646251200-1646258400@operabalet.mk
SUMMARY:АНА КАРЕНИНА - Петар Илич Чајковски (2.3.2022)
DESCRIPTION:\nПетар Илич Чајковски\n АНА КАРЕНИНА - ОБНОВА\nБалет во 2 чина\n2.3.2022 / 20.00 ч.\nКореограф: Лео Мујиќ (Хрватска)\nКостимограф: Александар Ношпал\nПренел сценографија: Михајло Стојановски\, Сашо Стојановски\nСветло мајстор: Милчо Александров\nСликар: Зоран Костовски\nДизајн: Емил Петров\nРепетитори: Горан Божинов\, Лора Тарчуговска\, Дафина Данилоска - Кочевска\nИнспициенти: Дубравка Шопова\, Тијана Тарчуговска\, Љупка Јакимовска\n\nВо главните улоги:\nАна Каренина: Мими Поп Алексова Атанасовска\nВронски: Никола Хаџитанев (Бугарија)\nКаренин: Емил Јорданов (Бугарија)\n\nНастапуваат: истакнати солисти\, солисти и целиот балетски ансамбл на Нaционална опера и балет\n
URL:https://operabalet.mk/event/%d0%b0%d0%bd%d0%b0-%d0%ba%d0%b0%d1%80%d0%b5%d0%bd%d0%b8%d0%bd%d0%b0-%d0%bf%d0%b5%d1%82%d0%b0%d1%80-%d0%b8%d0%bb%d0%b8%d1%87-%d1%87%d0%b0%d1%98%d0%ba%d0%be%d0%b2%d1%81%d0%ba%d0%b8-2-3-2022/
LOCATION:Array
CATEGORIES:балет
ATTACH;FMTTYPE=image/jpeg:https://operabalet.mk/wp-content/uploads/2018/12/Ana-Karenina_Web-slide.jpg
END:VEVENT
END:VCALENDAR