BEGIN:VCALENDAR
VERSION:2.0
PRODID:-//Национална опера и балет - ECPv4.0.7//NONSGML v1.0//EN
CALSCALE:GREGORIAN
METHOD:PUBLISH
X-WR-CALNAME:Национална опера и балет
X-ORIGINAL-URL:https://operabalet.mk
X-WR-CALDESC:Events for Национална опера и балет
BEGIN:VEVENT
DTSTART;TZID="UTC+0":20200505T200000
DTEND;TZID="UTC+0":20200505T210000
DTSTAMP:20260424T154541
CREATED:20200429T224213
LAST-MODIFIED:20200429T224213
UID:2754-1588708800-1588712400@operabalet.mk
SUMMARY:БАЛЕТСКА ВЕЧЕР НА БУРНОНВИЛ (онлајн премиера 5.5.2020)
DESCRIPTION:\nОПЕРА И БАЛЕТ ВО ВАШИТЕ ДОМОВИ \nДраги љубители на оперската и балетска уметност\,\nПочнувајќи од вторник\, 7 април со почеток во 20.00 часот на официјалниот YouTube канал на Националната опера и балет\, секој вторник и петок ќе имате можност да ги погледнете вашите омилени оперски и балетски претстави.\nЛинк до каналот:\nhttps://www.youtube.com/user/makoib\nБАЛЕТСКА ВЕЧЕР НА БУРНОНВИЛ\n(Три балетски дела инспирирани од Франција\, Италија и Шпанија)\nДиригент: Бисера Чадловска\nКореограф: Аугуст Бурнонвил (Данска)\nМузика: Х. С. Паули\, Х. К. Лумбие\, В. К. Холм\, Е. Хелстед\nПоставена и режирана од Ева Клоберг и Франк Андерсен (Данска)\nСценограф: Зоран Николовски\nКостимограф: Марија Пупучевска\nАсистент на продуцентите: Саша Евтимова\nКонцерт мајстор: Климент Тодороски\nКОНЗЕРВАТОРИУМ\nМастер: Дојчин Дочев (Бугарија)\n2 девојки: Ивана Коцевска\, Дилјана Јанева (Бугарија)\nСоло виолина: Климент Тодороски\n4-ца мажи: Ендру Кук (Англија)\, Светлин Стојанов (Бугарија)\, Андреј Литвиненко (Украина)\, Јан Кисилев\, Игор Веланоски\nАнсамбл: Дафина Данилоска - Кочевска\, Марина Анастасовска\, Романа Јуханесовичова (Словачка)\, Александра Ѓореска\, Христина Наќевска\, Медина Јусуфовиќ\, Габриела Павловска\, Бојана Христовска\, Мила Ниновска\, Илијана Данилов\, Ангела Богатинова\, Ангела Велевска\n(Симона Митовска\, Меланија Гоцевска)\n8 девојчиња од МБУЦ „Илија Николовски – Луј“: Нина Блажевски\, Ангела Аврамовски\, Јована Николовска\, Михаела Душански\, Стефи Здравковска\, Блерина Реџепи\, Лора Бедњанец\, Ева Десоска\nФЕСТИВАЛ НА ЦВЕЌИЊАТА\nМими Поп Алексова Атанасовска\, Кенто Терашита (Јапонија)\nПРОЗОРЕЦОТ:\nСињорита: Марија Кичевска Шокаровска\nСињор: Бобан Ковачевски\nПа де труа: Билјана Басмаџиева\, Романа Јуханесовичова (Словачка)\, Игор Веланоски\nОгледало девојка: Марија Јосифовска\nАнсамбл:\nМажи: Агим Бафтии\, Мартин Саздовски\, Кристијан Јангос\, Јан Кисилев\, Мирослав Митрашиновиќ\, Ендру Кук (Англија)\, Никола Орсо\, Светлин Стојанов (Бугарија)\, (Борјан Тетиев\, Марко Арсов\, Кенто Терашита)\nЖени: Андријана Петковски\, Симона Митовска\, Бранкица Јовевска\, Бистра Делиниколова\, Дијана Стојановска\, Маја Костовска\, Бојана Христовска\, Никита Димчевска (Мила Ниновска\,  Христина Наќевска\, Ивана Димкоска\, Ангела Велевска\, Ангела Богатинова\, Медина Јусуфовиќ\, Меланија Гоцевска)
URL:https://operabalet.mk/event/%d0%b1%d0%b0%d0%bb%d0%b5%d1%82%d1%81%d0%ba%d0%b0-%d0%b2%d0%b5%d1%87%d0%b5%d1%80-%d0%bd%d0%b0-%d0%b1%d1%83%d1%80%d0%bd%d0%be%d0%bd%d0%b2%d0%b8%d0%bb-%d0%be%d0%bd%d0%bb%d0%b0%d1%98%d0%bd-%d0%bf%d1%80/
LOCATION:Array
CATEGORIES:балет
ATTACH;FMTTYPE=image/gif:https://operabalet.mk/wp-content/uploads/2016/02/02.gif
END:VEVENT
END:VCALENDAR