BEGIN:VCALENDAR
VERSION:2.0
PRODID:-//Национална опера и балет - ECPv4.0.7//NONSGML v1.0//EN
CALSCALE:GREGORIAN
METHOD:PUBLISH
X-WR-CALNAME:Национална опера и балет
X-ORIGINAL-URL:https://operabalet.mk
X-WR-CALDESC:Events for Национална опера и балет
BEGIN:VEVENT
DTSTART;TZID="UTC+0":20210205T200000
DTEND;TZID="UTC+0":20210205T210000
DTSTAMP:20260423T152926
CREATED:20210125T115014
LAST-MODIFIED:20210203T093514
UID:2932-1612555200-1612558800@operabalet.mk
SUMMARY:„Балетски бисери“ - балетски концерт (5.2.2021)
DESCRIPTION:\n„Балетски бисери“ – Балетски коцерт\n5.2.2021\, 20 часот\n 1.Pas de quatre(музика Цезар Пуњи\, кореографија Жил Перо)\nСолисти: Ивана Коцевска\, Христина Наќевска\, Ивана Димкоска\, Виолета Карајaнова\n2.Силфида (музика Херман Ловенскјолд\, кореографија Август Бурнонвил)\nСилфида: Мими Поп Алексова Атанасовска\nЏејмс: Бобан Ковачевски\n3.Сарацини - извадок од балетот Рајмонада (музика Александар Глазунов\, кореографија Мариус Петипа)\nНастапуваат: Кристијан Јангос\, Мартин Саздовски\, Агим Бафтии\, Салваторе Лаудани\, Марко Арсов\, Бојан Димовски\n4.Панадерас - Извадок од балетот Рајмонда (музика Александар Глазунов\, кореографија Мариус Петипа)\nАбдурахман: Балаж Лашеи (Унгарија)\nЖени: Цветанка Максимовска\, Марија Глигорова\, Славица Мишева\, Ирена Макеларска\, Стефанија Кузмановска\, Бистра Иванова\, Ангела Богатинова\, Теодора Ставревска\n5.Бајадера (Музика Лудвинг Минкус\, кореографија Мариус Петипа)\nМонолог на Никија - Ивана Коцевска\n6.Сабји - извадок од балетот Гајане (Музика Арам Хачеторијан)\nСоло: Мирослав Митрашиновиќ\nЈан Кисилев\,Кристијан Јангос\, Салваторе Лаудани\, Агим Бафтии\, Марко Арсов\, Никола Орсо\, Ендру Кук\n7.Пахита (музика Е.Делдевез и Л.Минкус\, кореографија М.Петипа)\nЛуциен: Васили Чичиашвили (Грузија)\nПахита: Христина Наќевска\nПа де троа:  Андријана Петковски\, Бојана Христовска\, Ендру Кук\nДвојки и варијации: Мила Ниновска\, Бојана Христовска\, Илијана Данилов\, Ивана Димкоска\, Меланија Гоцевска\, Виолета Карајанова\nДевојки : Дијана Стојановска\, Ангела Богатинова\, Теодора Ставревска\, Матеа Каревски\, Андријана Богатиноска\, Ева Перковска\, Мартина Цветаноска\, Бојана Арсовска\nРепетитори: Горан Божинов\, Александра Мијлкова\, Васил Чичијашвили( Грузија)\, Саша Евтимова\, Лора Тарчуговска\, Билјана Пашариковска\nИнспициент: Љупка Јакимовска\nНАПОМЕНА:\n*Настанот ќе се одржи според протоколите предвидени со моменталната состојба предизвикана од пандемијата Ковид-19 за одржување настани\, одобрени од Комисијата за заразни болести. Задолжително е носење на заштитна маска.\nВе молиме\, почитувајте ги мерките за заштита.\n*Распоредот на онлајн билетите  е во пар од две седишта едно до друго\, на пример седиште 5 и 6\, две слободни седишта\, па 9 и 10 седиште се на продажба. Доколку имате потреба од единечен билет или комбинација од 3 споени седишта ве молиме контактирајте не на телефонскиот број 078 426 536.
URL:https://operabalet.mk/event/%d0%b1%d0%b0%d0%bb%d0%b5%d1%82%d1%81%d0%ba%d0%b8-%d0%b1%d0%b8%d1%81%d0%b5%d1%80%d0%b8-%d0%b1%d0%b0%d0%bb%d0%b5%d1%82%d1%81%d0%ba%d0%b8-%d0%ba%d0%be%d0%bd%d1%86%d0%b5%d1%80%d1%82-5/
LOCATION:Array
CATEGORIES:балет,концерт
ATTACH;FMTTYPE=image/jpeg:https://operabalet.mk/wp-content/uploads/2020/12/balet-ansambl.jpg
END:VEVENT
END:VCALENDAR