BEGIN:VCALENDAR
VERSION:2.0
PRODID:-//Национална опера и балет - ECPv4.0.7//NONSGML v1.0//EN
CALSCALE:GREGORIAN
METHOD:PUBLISH
X-WR-CALNAME:Национална опера и балет
X-ORIGINAL-URL:https://operabalet.mk
X-WR-CALDESC:Events for Национална опера и балет
BEGIN:VEVENT
DTSTART;TZID="Europe/Skopje":20221003T200000
DTEND;TZID="Europe/Skopje":20221003T200000
DTSTAMP:20260423T111309
CREATED:20220822T204948
LAST-MODIFIED:20220914T103316
UID:3529-1664827200-1664827200@operabalet.mk
SUMMARY:"Кармен" и "Валпургиска ноќ" (3.10.2022)
DESCRIPTION:\nГОСТУВАЊЕ ВО БИТОЛА НА ИНТЕРФЕСТ\n КАРМЕН И ВАЛПУРГИСКА НОЌ\n 3.10.2022\n\n„КАРМЕН“\nМузика: Жорж Бизе\, Родион Шчедрин\nКореограф: Габор Кевехази (Унгарија)\nСценограф: Марија Ветеровска\nКостимограф: Марија Пупучевска\nРепетитори: Александра Мијалкова\, Горан Божинов и Билјана Пашариковска\nДизајн: Емил Петров\n\nНастапуваат:\nКармен: Мими Поп Алексова Атанасовска\nДон Хозе: Балаж Лочеи (Унгарија)\nЕскамиљо: Мирослав Митрашиновиќ\nМихаела: Ивана Димкоска\nЦунига: Игор Веланоски\n\n„ВАЛПУРГИСКА НОЌ“\nМузика: Шарл Гуно\nКореограф: Габор Кевехази (Унгарија)\nСценограф: Марија Ветеровска\nКостимограф: Марија Пупучевска\nРепетитори: Александра Мијалкова\, Горан Божинов и Дафина Данилоска Кочевска\nДизајн: Емил Петров\n\nНастапуваат:\nВаханалка: Марија Кичевска Шокаровска\nНимфа I: Саша Евтимова\nНимфа II: Ивана Коцевска\nМажи во црно: Мирослав Митрашиновиќ\, Николас Хоурсеау\, Кристијан Јангос\nТројка-варијација: Игор Веланоски\, Илијана Данилов\, Ендру Кук (Англија)
URL:https://operabalet.mk/event/%d0%b1%d0%be%d0%bb%d0%b5%d1%80%d0%be-%d0%b8-%d0%b3%d0%b0%d0%bb%d0%b0-%d0%be%d0%bf%d0%b5%d1%80%d1%81%d0%ba%d0%b8-%d0%ba%d0%be%d0%bd%d1%86%d0%b5%d1%80%d1%82-1-10-2022/
LOCATION:Array
CATEGORIES:балет,концерт
ATTACH;FMTTYPE=image/gif:https://operabalet.mk/wp-content/uploads/2016/02/03.gif
END:VEVENT
END:VCALENDAR