BEGIN:VCALENDAR
VERSION:2.0
PRODID:-//Национална опера и балет - ECPv4.0.7//NONSGML v1.0//EN
CALSCALE:GREGORIAN
METHOD:PUBLISH
X-WR-CALNAME:Национална опера и балет
X-ORIGINAL-URL:https://operabalet.mk
X-WR-CALDESC:Events for Национална опера и балет
BEGIN:VEVENT
DTSTART;TZID="Europe/Skopje":20220614T200000
DTEND;TZID="Europe/Skopje":20220614T220000
DTSTAMP:20260423T134645
CREATED:20220606T135253
LAST-MODIFIED:20220608T150249
UID:3496-1655236800-1655244000@operabalet.mk
SUMMARY:ВАЛПУРГИСКА НОЌ – Шарл Гуно / ШЕХЕРЕЗАДА – Николај Римски Корсаков (балет)
DESCRIPTION:\n14.6.2022\nШЕХЕРЕЗАДА – Николај Римски Корсаков (балет)\nДиригент: Бисера Чадловска\nКореограф: Михаил Крапивин (Русија) – со првична постановка на Михаил Фокин\nСценограф: Марија Ветеровска (по сценографијата на Л. Бакст)\nКостимограф: Маја Бурсаќ (Србија) – по костимографија на Л. Бакст\nКонцерт мајстор:\nРепетитори: Ела Стеблјак(Украина)\,Горан Божинов\,Александра Мијалкова\, Лора Тарчуговска\,Дафина Данилоска-Кочевска\nСолисти:\nЗабеида: Ивана Коцевска\nЗлатен роб: Балаж Лашеи (Унгарија)\nСултан Шахријар: Драган Кочоски\nШах Земан: Стефан Кочевски\nГлавен евнух: Лора Тарчуговска\n3 одалиски: Симона Митовска\,Илијана Данилов\, Ивана Димкоска\n***ПАУЗА***\nВАЛПУРГИСКА НОЌ – Шарл Гуно (балет)\nДиригент: Бисера Чадловска\nКореограф: Габор Кевехази (Унгарија)\nСценограф: Марија Ветероска\nКостимограф: Марија Пупучевска\nРепетитори: Ела Стеблјак(Украина)\,Горан Божинов\,Александра Мијалкова\, Лора Тарчуговска\, Билјана Пашариковска\nКонцерт мајстор:\nСолисти:\nВаханалка: Марија Кичевска Шокаровска\nНимфа I: Саша Евтимова\nНимфа II: Мими Поп Алексова Атанасовска\nТри момци – во црно: Мирослав Митрашиновиќ\, Николас Орсо\, Кристијан Јангос\nТројка – варијација: Игор Веланоски\, Ендру Кук (Англија)\, Илијана Данилов\nНастапуваат првенци\, истакнати солисти\, солисти\, балетскиот ансамбл и оркестарот на Националната опера и балет\n
URL:https://operabalet.mk/event/%d0%b2%d0%b0%d0%bb%d0%bf%d1%83%d1%80%d0%b3%d0%b8%d1%81%d0%ba%d0%b0-%d0%bd%d0%be%d1%9c-%d1%88%d0%b0%d1%80%d0%bb-%d0%b3%d1%83%d0%bd%d0%be-%d1%88%d0%b5%d1%85%d0%b5%d1%80%d0%b5%d0%b7%d0%b0/
LOCATION:Array
CATEGORIES:балет
ATTACH;FMTTYPE=image/jpeg:https://operabalet.mk/wp-content/uploads/2022/06/sheherezade-walpurgis.jpg
END:VEVENT
END:VCALENDAR