BEGIN:VCALENDAR
VERSION:2.0
PRODID:-//Национална опера и балет - ECPv4.0.7//NONSGML v1.0//EN
CALSCALE:GREGORIAN
METHOD:PUBLISH
X-WR-CALNAME:Национална опера и балет
X-ORIGINAL-URL:https://operabalet.mk
X-WR-CALDESC:Events for Национална опера и балет
BEGIN:VEVENT
DTSTART;TZID="UTC+0":20161017T200000
DTEND;TZID="UTC+0":20161017T210000
DTSTAMP:20260425T210831
CREATED:20161005T190717
LAST-MODIFIED:20161016T102031
UID:851-1476734400-1476738000@operabalet.mk
SUMMARY:ВЕЧЕР НА БЕЛКАНТО И РУСКИ РОМАНСИ - Александра Лазаревска Василевска и Андреј Наунов
DESCRIPTION:(Фоаје на МОБ)\nАлександра Лазаревска Василевска – сопран\nАндреј Наунов - пијано\nРежисер: Дејан Прошев\n \n\nРодена на 21.10.1979 во Скопје\, каде што го завршува нижото музчко училиште\, отсек виолина. Средното музичко образование во МБУЦ „Илија Николовски Луј“ го завршува во класата на проф. Ѕвезда Мирчевска Дамовска\, отсек соло пеење\, а дипломира во 2003 година на музичката академија во класата на Марија Муратовска Наумовска. Во 2000 година учевствува на семинар по соло пеење во Р. Германија во мастер класата на проф. Артуро Серџи.\n\nСвојата соло кариера ја започнува со операта „Деспина и Мистер Докс“ на Димитрие Бужаровски со настапи низ Македонија и во камерната опера во Виена\, а од 2004 година е солист во Македонската опера и балет каде што остварува повеќе улоги:\n\n 
URL:https://operabalet.mk/event/%d0%b2%d0%b5%d1%87%d0%b5%d1%80-%d0%bd%d0%b0-%d0%b1%d0%b5%d0%bb%d0%ba%d0%b0%d0%bd%d1%82%d0%be-%d0%b8-%d1%80%d1%83%d1%81%d0%ba%d0%b8-%d1%80%d0%be%d0%bc%d0%b0%d0%bd%d1%81%d0%b8-%d0%b0%d0%bb%d0%b5%d0%ba/
LOCATION:бул. Гоце Делчев бр.4\, Скопје\, Скопје\, 1000\, Macedonia
CATEGORIES:концерт
ATTACH;FMTTYPE=image/jpeg:https://operabalet.mk/wp-content/uploads/2016/10/Untitled-1.jpg
END:VEVENT
END:VCALENDAR