BEGIN:VCALENDAR
VERSION:2.0
PRODID:-//Национална опера и балет - ECPv4.0.7//NONSGML v1.0//EN
CALSCALE:GREGORIAN
METHOD:PUBLISH
X-WR-CALNAME:Национална опера и балет
X-ORIGINAL-URL:https://operabalet.mk
X-WR-CALDESC:Events for Национална опера и балет
BEGIN:VEVENT
DTSTART;TZID="UTC+0":20201212T200000
DTEND;TZID="UTC+0":20201212T203000
DTSTAMP:20260423T230137
CREATED:20201204T093320
LAST-MODIFIED:20201212T115348
UID:2863-1607803200-1607805000@operabalet.mk
SUMMARY:„Вечер на оперски арии“ -оперски рецитал (фоаје)
DESCRIPTION:\n\n\tВ.А.Моцарт: Exultate Jubilate Alleluia – Билјана Јосифов\n\tФ. Чилеа: Арија на Федерико од операта „Арлезијанка“ – Дејан Стоев\n\tЏ. Росини: Арија на Розина од операта „Севилскиот бербер“ – Десанка Глигоријевиќ\n\tВ.А.Моцарт: Арија на Фигаро од операта „Свадбата на Фигаро“ – Драган Ампов\n\tФ. Лехар: Арија на Џудита од оперетата „Џудита“ – Билјана Јосифов\n\tИ.Калман: Арија на Силва од оперетата „Војвотката на чардашот“ – Десанка Глигоријевиќ\n\tФ. Лехар: Дует од оперетата „Веселата вдовица“ – Билјана Јосифов и Драган Ампов\n\n      Пијано придружба: Андреј Наунов\n\n***********************************************\nНастанот ќе се одржи според протоколите предвидени со моменталната состојба предизвикана од пандемијата Ковид-19 за одржување настани\, одобрени од Комисијата за заразни болести. Задолжително е носење на заштитна маска.\nВе молиме\, почитувајте ги мерките за заштита.\n\nПРОТОКОЛ ЗА ПУБЛИКА\nВлезот на публиката ќе се одвива во две фази\, прва фаза/влез – дезинфекција на раце\, обувки и мерење на температура и втора фаза/влез – приложување на билет.\nВлезот за публиката е отворен еден час пред почеток на претставата/настанот.\nЗадолжително носење на маска за секој посетител – влезот нема да биде дозволен без маски;\nЗадолжителна дезинфекција на раце и обувки на влез\,\nЗадолжително мерење на температура на влез\,\nПоставени и означени места за влез пред билетарата\,\nИма јасно и видно истакнато известување за придржување на мерките\,\nДоколку се покаже температура над 37 с не се пушта да влезе\,\nВлезот е еден по еден во фоајето со максимално придржување на дистанца од 1.5 до 2 метра\,\nНа влезните врати за публика во гледалиште има по 1 распоредител и се пушта по 1 посетител\,\nГардеробата е затворена (секој посетител ќе мора да си ја земе со себе)\nИзлезот од сала е на принцип 1 по 1 со максимално придржување на дистанца од 1.5 до 2 метра.
URL:https://operabalet.mk/event/%d0%b2%d0%b5%d1%87%d0%b5%d1%80-%d0%bd%d0%b0-%d1%81%d0%be%d0%bb%d0%be-%d0%bf%d0%b5%d1%81%d0%bd%d0%b8-%d0%be%d0%bf%d0%b5%d1%80%d1%81%d0%ba%d0%b8-%d1%80%d0%b5%d1%86%d0%b8%d1%82%d0%b0/
LOCATION:Array
CATEGORIES:концерт
ATTACH;FMTTYPE=image/jpeg:https://operabalet.mk/wp-content/uploads/2020/12/cover-majskii2..jpg
END:VEVENT
END:VCALENDAR