BEGIN:VCALENDAR
VERSION:2.0
PRODID:-//Национална опера и балет - ECPv4.0.7//NONSGML v1.0//EN
CALSCALE:GREGORIAN
METHOD:PUBLISH
X-WR-CALNAME:Национална опера и балет
X-ORIGINAL-URL:https://operabalet.mk
X-WR-CALDESC:Events for Национална опера и балет
BEGIN:VEVENT
DTSTART;TZID="UTC+0":20201211T200000
DTEND;TZID="UTC+0":20201211T203000
DTSTAMP:20260423T213852
CREATED:20201204T093050
LAST-MODIFIED:20201212T115417
UID:2862-1607716800-1607718600@operabalet.mk
SUMMARY:„ВЕЧЕР ПОСВЕТЕНА НА ЉУБОВТА“ -оперски рецитал (фоаје)
DESCRIPTION:\n\n\tЖ. Офенбах: Дует од операта „Хофманови приказни“ – Злата Тошевска и Марика Поповиќ\n\tЏ. Верди: Арија на Набуко од операта „Набуко“ – Невен Силјановски\n\tЈ. Штраус: Арија на Аделе од операта „Лилјакот“ - Ана Ројдева\n\tЏ. Верди: Арија на Ацучена од операта „Трубадур“ – Марика Поповиќ\n\tШ. Гуно: Арија на Мефистофел од операта „Фауст“ – Невен Силјановски\n\tЏ. Верди: Арија на Амелија од операта „Бал под маски“ – Злата Тошевска\n\tЏ. Росини:Дует на две мачки – Ана Ројдева и Марика Поповиќ\n\n      Пијано придружба: Андреј Наунов\n\n***********************************************\nНастанот ќе се одржи според протоколите предвидени со моменталната состојба предизвикана од пандемијата Ковид-19 за одржување настани\, одобрени од Комисијата за заразни болести. Задолжително е носење на заштитна маска.\nВе молиме\, почитувајте ги мерките за заштита.\n\nПРОТОКОЛ ЗА ПУБЛИКА\nВлезот на публиката ќе се одвива во две фази\, прва фаза/влез – дезинфекција на раце\, обувки и мерење на температура и втора фаза/влез – приложување на билет.\nВлезот за публиката е отворен еден час пред почеток на претставата/настанот.\nЗадолжително носење на маска за секој посетител – влезот нема да биде дозволен без маски;\nЗадолжителна дезинфекција на раце и обувки на влез\,\nЗадолжително мерење на температура на влез\,\nПоставени и означени места за влез пред билетарата\,\nИма јасно и видно истакнато известување за придржување на мерките\,\nДоколку се покаже температура над 37 с не се пушта да влезе\,\nВлезот е еден по еден во фоајето со максимално придржување на дистанца од 1.5 до 2 метра\,\nНа влезните врати за публика во гледалиште има по 1 распоредител и се пушта по 1 посетител\,\nГардеробата е затворена (секој посетител ќе мора да си ја земе со себе)\nИзлезот од сала е на принцип 1 по 1 со максимално придржување на дистанца од 1.5 до 2 метра.
URL:https://operabalet.mk/event/%d0%b2%d0%b5%d1%87%d0%b5%d1%80-%d0%bf%d0%be%d1%81%d0%b2%d0%b5%d1%82%d0%b5%d0%bd%d0%b0-%d0%bd%d0%b0-%d1%99%d1%83%d0%b1%d0%be%d0%b2%d1%82%d0%b0-%d0%be%d0%bf%d0%b5%d1%80%d1%81%d0%ba/
LOCATION:Array
CATEGORIES:концерт
ATTACH;FMTTYPE=image/jpeg:https://operabalet.mk/wp-content/uploads/2016/05/cover-majskiiii.jpg
END:VEVENT
END:VCALENDAR