BEGIN:VCALENDAR
VERSION:2.0
PRODID:-//Национална опера и балет - ECPv4.0.7//NONSGML v1.0//EN
CALSCALE:GREGORIAN
METHOD:PUBLISH
X-WR-CALNAME:Национална опера и балет
X-ORIGINAL-URL:https://operabalet.mk
X-WR-CALDESC:Events for Национална опера и балет
BEGIN:VEVENT
DTSTART;TZID="Europe/Skopje":20230204T200000
DTEND;TZID="Europe/Skopje":20230204T210000
DTSTAMP:20260423T111359
CREATED:20230123T103551
LAST-MODIFIED:20230130T134650
UID:3697-1675540800-1675544400@operabalet.mk
SUMMARY:ВЕЧЕР СО БЛАГОЈ НАЦОСКИ – ПРВИТЕ 20 ГОДИНИ (4.2.2023)
DESCRIPTION:\nКонцерт на Благој Нацоски\, тенор\n4 февруари 2023 – 20ч\nНационална Опера и Балет\n„Вечер со Благој Нацоски: првите 20 години“\nЈанинка Невчева\, пијано соработка\nДејан Прошев\, режисер\n\nГости:\nНаде Талевска\, сопран\nВаско Здравков\, баритон\nВодител\nОгнен Јанески\nПрограма:\nЏузепе Џордани – Ангелу мој драг\nЖил Масне – сонот на Де Грие од операта „Манон“\nЏоакино Росини – арија на Фигаро од операта „Севилски бербер“\nЏоакино Росини – дует на Грофот Алмавива и Фигаро од операта „Севилски бербер“\nЏузепе Верди – арија на Војводата од Мантова од операта „Риголето“\nФранческо Чилеа – плачот на Федерико од операта „Арлезијанка“\nЏакомо Пучини – арија на Музета од операта „Боеми“\nЏакомо Пучини – дует на Мими и Родолфо од операта „Боеми“\nЏакомо Пучини – арија на Каварадоси од операта „Тоска“\nСтанислао Гасталдон – Забранета музика\nРуџеро Леонкавало – Утринска серенада\nАлесандро Д‘Агостини - Свита Македонија
URL:https://operabalet.mk/event/%d0%b2%d0%b5%d1%87%d0%b5%d1%80-%d1%81%d0%be-%d0%b1%d0%bb%d0%b0%d0%b3%d0%be%d1%98-%d0%bd%d0%b0%d1%86%d0%be%d1%81%d0%ba%d0%b8-%d0%bf%d1%80%d0%b2%d0%b8%d1%82%d0%b5-20-%d0%b3%d0%be%d0%b4%d0%b8/
LOCATION:Array
CATEGORIES:концерт
ATTACH;FMTTYPE=image/jpeg:https://operabalet.mk/wp-content/uploads/2021/09/blagoj_web.jpg
END:VEVENT
END:VCALENDAR