BEGIN:VCALENDAR
VERSION:2.0
PRODID:-//Национална опера и балет - ECPv4.0.7//NONSGML v1.0//EN
CALSCALE:GREGORIAN
METHOD:PUBLISH
X-WR-CALNAME:Национална опера и балет
X-ORIGINAL-URL:https://operabalet.mk
X-WR-CALDESC:Events for Национална опера и балет
BEGIN:VEVENT
DTSTART;TZID="UTC+0":20210509T200000
DTEND;TZID="UTC+0":20210509T204000
DTSTAMP:20260423T140512
CREATED:20210505T095445
LAST-MODIFIED:20210519T100747
UID:3044-1620590400-1620592800@operabalet.mk
SUMMARY:„ВОЛШЕБНИОТ МОЦАРТ“ - ГАЛА ОПЕРСКИ КОНЦЕРТ (9.5.2021- онлајн)
DESCRIPTION:„ВОЛШЕБНИОТ МОЦАРТ“\n  ГАЛА ОПЕРСКИ КОНЦЕРТ\n  Концерт по повод 230 години од смртта на музичкиот великан Волфганг Амадеус Моцарт\n  09.05.2021\, 20 часот\nДиригенти: Бисера Чадловска и Иван Еминовиќ\nСолисти: Наде Талевска Спасовска - сопран\nВладимир Саздовски - бас\nРежисер: Трајко Јордановски\nКонцерт мајстор: Климент Тодороски\nСветло дизајн: Милчо Александров\nИспициенти: Љупчо Полизов\, Драган Костадиновиќ\, Марко Павлевски\nПрограма:\n1. Увертира од операта „Свадбата на Фигаро“\nДиригент : Иван Еминовиќ\n2. Арија на Лепорело „Madamina\, il catalogo e questo“ од операта „Дон Џовани“\nИсполнува: Владимир Саздовски\nДиригент : Иван Еминовиќ\n3. Арија на Констанца од операта „Грабнување од сарајот“ - Ach ich liebte\nНаде Талевска Спасовска\nДиригент : Бисера Чадловска\n4. Речитатив и арија на Фигаро „Tutto e disposto - Aprite un po' quegl' occhi“ од операта „Свадбата на Фигаро“\nИсполнува: Владимир Саздовски\nДиригент : Иван Еминовиќ\n5. Увертира од од операта „Волшебната флејта“\nДиригент : Бисера Чадловска\n6. Арија на Кралицата на ноќта „O zittre nicht“ од операта „Волшебната флејта“\nИсполнува: Наде Талевска Спасовска\nДиригент : Бисера Чадловска\n7. Арија на Сарастро од операта „Волшебната флејта-O Isis und Osiris“\nВладимир Саздовски\nДиригент : Иван Еминовиќ\n8. Арија на Кралицата на ноќта \,\, Der Hȍlle rache\,\, од операта „Волшебната флејта“\nИсполнува: Наде Талевска Спасовска\nДиригент : Бисера Чадловска\nОркестарот на Националната опера и балет\nЛинк до настанот!
URL:https://operabalet.mk/event/%d0%b2%d0%be%d0%bb%d1%88%d0%b5%d0%b1%d0%bd%d0%b8%d0%be%d1%82-%d0%bc%d0%be%d1%86%d0%b0%d1%80%d1%82-%d0%b3%d0%b0%d0%bb%d0%b0-%d0%be%d0%bf%d0%b5%d1%80%d1%81%d0%ba%d0%b8-%d0%ba%d0%be/
LOCATION:Array
CATEGORIES:концерт
ATTACH;FMTTYPE=image/jpeg:https://operabalet.mk/wp-content/uploads/2021/05/mozart_web.jpg
END:VEVENT
END:VCALENDAR