BEGIN:VCALENDAR
VERSION:2.0
PRODID:-//Национална опера и балет - ECPv4.0.7//NONSGML v1.0//EN
CALSCALE:GREGORIAN
METHOD:PUBLISH
X-WR-CALNAME:Национална опера и балет
X-ORIGINAL-URL:https://operabalet.mk
X-WR-CALDESC:Events for Национална опера и балет
BEGIN:VEVENT
DTSTART;TZID="UTC+0":20160625T210000
DTEND;TZID="UTC+0":20160625T221500
DTSTAMP:20260424T234747
CREATED:20160613T081053
LAST-MODIFIED:20160623T074626
UID:551-1466888400-1466892900@operabalet.mk
SUMMARY:Гаетано Доницети - „РИТА“ / Мала сцена на  МОБ/ 20.00ч
DESCRIPTION:Комична опера во еден чин по либрето на Густаво Ваез.\nПра изведбата на операта е во Париз 07.05.1860\nРаботен наслов \,\,Двајца мажи и една жена\,\,\n\nДиригент: Ѓурѓица Дашиќ\nРежисер:   Трајко Јордановски\nСценографија / избор на костими:  Марија Ветероска\nКорепетитори: Елена Сиљаноска\, Јанинка Невчева\, Андреј Наунов\nИнспициенти: Љупчо Полизов\, Драган Костадиновиќ\, Марко Павлевски\nСуфлери: Светлана Георгиева\,  Павлина Здравкова\n\nСолисти:\nРита: Полина Тасева\nБепе: Јане Дунимаглоски\nГаспаро: Невен Сиљановски\nБартоло: Борко Биџовски\n\nСинопсис:\n\nДејството се случува во Бергамо\, Италија. Рита е сопственичка на преноќиште и вдовица на Гаспаро\, сопруг кој ја малтретирал и според нејзино сознание настрадал во бродолом.\n\nВо меѓувреме Рита го запознава Бепе\, човек кој многу и помогнал во гаснењето на пожарот во нејзината куќа и се мажи за него. Новиот сопруг е сосема различен од поранешниот\, Гаспаро. Рита\, поттикната од претходното искуство\, се наметнува во новиот брак\, па дури и го малтретира Бепе\, на ист начин како што ја малтретирал Гаспаро. Одненадеж се појавува Гаспаро\, кој го преживеал бродоломот и сега живее во Канада каде што се стекнал со големо богатство. Тој се вратил во Бергамо за да добие потврда дека Рита не е жива за да може да склопи брак со вереницата во Канада. Гаспаро доаѓа во преноќиштето на Рита и го наоѓа Бепе.\n\nВо меѓусебниот разговор\, Гаспаро го учи Бепе како да се однесува со жените\, но при покажување на личната карта на Гаспаро\, Бепе сфаќа дека тој е \,\,починатиот\,\, сопруг на Рита. Го моли да му помогне да се ослододи од малтретирањето на Рита. Единствената цел на Гаспаро е да го добие документорт дека бракот со Рита не важи и применува трик за реализација на својата идеја. Се случува дуел помеѓу Гаспаро и Бепе\, а победникот треба да живее со Рита. Но Рита и Бепе ја откриваат измамата. Гаспаро го добива бараниот документ\, а Рита и Бепе продолжуваат да живеат во среќен брак\, зашто Рита му ветува на Бепе дека нема повеќе да го малтретира.\n\n \n\n \n\n*времетраење на претставата 75 минути
URL:https://operabalet.mk/event/%d0%b3%d0%b0%d0%b5%d1%82%d0%b0%d0%bd%d0%be-%d0%b4%d0%be%d0%bd%d0%b8%d1%86%d0%b5%d1%82%d0%b8-%d1%80%d0%b8%d1%82%d0%b0-%d0%bc%d0%b0%d0%bb%d0%b0-%d1%81%d1%86%d0%b5%d0%bd%d0%b0/
LOCATION:бул. Гоце Делчев бр.4\, Скопје\, Скопје\, 1000\, Macedonia
CATEGORIES:опера
ATTACH;FMTTYPE=image/jpeg:https://operabalet.mk/wp-content/uploads/2016/06/rita_mk1.jpg
END:VEVENT
END:VCALENDAR