BEGIN:VCALENDAR
VERSION:2.0
PRODID:-//Национална опера и балет - ECPv4.0.7//NONSGML v1.0//EN
CALSCALE:GREGORIAN
METHOD:PUBLISH
X-WR-CALNAME:Национална опера и балет
X-ORIGINAL-URL:https://operabalet.mk
X-WR-CALDESC:Events for Национална опера и балет
BEGIN:VEVENT
DTSTART;TZID="UTC+0":20161012T200000
DTEND;TZID="UTC+0":20161012T220000
DTSTAMP:20260425T181025
CREATED:20160911T064453
LAST-MODIFIED:20161012T062843
UID:708-1476302400-1476309600@operabalet.mk
SUMMARY:ГРАНД ГАЛА - отворање на големата сцена на МОБ
DESCRIPTION:Македонската опера и балет свечено ќе ја отвори големата сала\, комплетно реновирана после 30 години. По тој повод\, Ве поканува на ГРАНД ГАЛА со најголемите музички хитови на планетарно популарните Адел\, Кристина Пери\, музичките теми на филмските хитови Аватар\, Петтиот елемент и многу други... Не го пропуштајте овој магичен концерт со солистите и ансамблите на МОБ.\nДиригент: Иван Еминовиќ\nРежисер: Трајко Јордановски\nСценографија: Зоран Тошевски\nАдаптација на костими: Марија Пупучевска\nКореограф: Саша Евтимова\nРепетитор: Лора Тарчуговска\nКонцерт мајстор: Верица Ламбевска\nХор мајстор: Ѓургица Дашиќ\nХор мајстор на детскиот хор: Теа Богатинова\nИнспициенти: Мирче Стојчевски\, Љупчо Полизов\, Драган Костадиновиќ\, Марко Павлевски\n\nНАСТАПУВААТ:\n\nОперски и балетски солисти\, хорот\, оркестарот\, балетскиот  ансамбл и детскиот хор „Фалсето“ при МОБ.\nНада Талевска Спасовска (сопран)\, Дарко Нешовски (тенор)\, Јане Дунимаглоски (тенор)\, Климент Тодоровски (виолина).\nБалетските солисти Мими Поп-Алексова\, Бобан Ковачевски\, Ивана Коцевска и Дојчин Дочев\n\n \n\n \n\n[video width="1280" height="720" mp4="http://mob.mk/wp-content/uploads/2016/09/gala.mp4"][/video]\n\n \n\n \n\n \n\n \n\n \n\n \n\n \n\n \n\n \n\n \n\n \n\n \n\n \n\n
URL:https://operabalet.mk/event/%d0%b3%d0%b0%d0%bb%d0%b0-%d0%ba%d0%be%d0%bd%d1%86%d0%b5%d1%80%d1%82-%d0%b7%d0%b0-%d0%be%d1%82%d0%b2%d0%be%d1%80%d0%b0%d1%9a%d0%b5-%d0%bd%d0%b0-%d0%b3%d0%be%d0%bb%d0%b5%d0%bc%d0%b0%d1%82%d0%b0-%d1%81/
LOCATION:бул. Гоце Делчев бр.4\, Скопје\, Скопје\, 1000\, Macedonia
CATEGORIES:концерт
ATTACH;FMTTYPE=image/jpeg:https://operabalet.mk/wp-content/uploads/2016/09/GRAND-GALA-WEB-876x390-bez-text.jpg
END:VEVENT
END:VCALENDAR