BEGIN:VCALENDAR
VERSION:2.0
PRODID:-//Национална опера и балет - ECPv4.0.7//NONSGML v1.0//EN
CALSCALE:GREGORIAN
METHOD:PUBLISH
X-WR-CALNAME:Национална опера и балет
X-ORIGINAL-URL:https://operabalet.mk
X-WR-CALDESC:Events for Национална опера и балет
BEGIN:VEVENT
DTSTART;TZID="UTC+0":20160528T200000
DTEND;TZID="UTC+0":20160528T220000
DTSTAMP:20260425T014227
CREATED:20160408T064907
LAST-MODIFIED:20160526T102257
UID:393-1464465600-1464472800@operabalet.mk
SUMMARY:ГАЛА КОНЦЕРТ - КОНТРАТЕНОРИ
DESCRIPTION:Диригент: Мориц Гнан (Германија)\nРежисер: Дејан Прошев\n\nНастапуваат:\nМакс Емануел Ценчиќ (Хрватска)\nВасилиј Хорошев (Русија)\nРеј Ченез (САД)\n\nНастапува оркестарот на Македонска Филхармонија и Македонска опера и балет\n\nПрограма:\n\n- Џ.Росини- Увертира \,\,Италијанка во Алжир\,\,\n\n-Г.Ф.Хендл -"Che piu si tarda omai... Stille amare" од операта Tolomeo Re d'Egitto\n\n-А.Вивалди - "Sorge l'irato nembo" од операта Orlando Furioso\n\n-Н.Римски-Корсаков - " Tuchia so gromom sgovarivalas " од операта Snegurochka\nВо изведба на Василиј Корошев\n\n-Г.Ф.Хендл – Увертира од Giulio Cesare in Egitto\n\n-Г.Ф.Хендл - "Furibondo spira il vento" од операта Partenope\n\n-Г.Ф.Хендл - "Svegliatevi nel core" од операта Giulio Cesare\nВо изведба на Реј Ченез\n\nПАУЗА\n\n-В.А.Моцарт – Увертира од La clemenza di Tito\n\n-В.А.Моцарт - "Parto parto" од операта La Clemenza di Tito\nВо изведба на Реј Ченез\n\n-В.А.Моцарт – У\nвертира од операта Mitridate\, re di Ponto\n\n-Г.Ф.Хендл - "Yet Can I hear that dulcet lay" од ораториумот The Choice of Hercules\n\n-В.А.Моцарт - "Venga pur minacci e frema" од операта Mitridate\n\n-Г. Доницети - "Il segreto per esser felici" од операта Lucrezia Borgia\nВо изведба на Макс Емануел Ценциќ
URL:https://operabalet.mk/event/%d0%b3%d0%b0%d0%bb%d0%b0-%d0%ba%d0%be%d0%bd%d1%86%d0%b5%d1%80%d1%82-%d0%ba%d0%be%d0%bd%d1%82%d1%80%d0%b0%d1%82%d0%b5%d0%bd%d0%be%d1%80%d0%b8/
LOCATION:бул. Гоце Делчев бр.4\, Скопје\, Скопје\, 1000\, Macedonia
CATEGORIES:концерт
ATTACH;FMTTYPE=image/jpeg:https://operabalet.mk/wp-content/uploads/2016/04/kontratenori_mk.jpg
END:VEVENT
END:VCALENDAR