BEGIN:VCALENDAR
VERSION:2.0
PRODID:-//Национална опера и балет - ECPv4.0.7//NONSGML v1.0//EN
CALSCALE:GREGORIAN
METHOD:PUBLISH
X-WR-CALNAME:Национална опера и балет
X-ORIGINAL-URL:https://operabalet.mk
X-WR-CALDESC:Events for Национална опера и балет
BEGIN:VEVENT
DTSTART;TZID="UTC+0":20160528T120000
DTEND;TZID="UTC+0":20160528T130000
DTSTAMP:20260425T030113
CREATED:20160419T105406
LAST-MODIFIED:20160522T134914
UID:432-1464436800-1464440400@operabalet.mk
SUMMARY:ГАЛА КОНЦЕРТ НА ДЕТСКИОТ ХОР „ФАЛСЕТО“ ПРИ МАКЕДОНСКА ОПЕРА И БАЛЕТ
DESCRIPTION:
URL:https://operabalet.mk/event/%d0%b3%d0%b0%d0%bb%d0%b0-%d0%ba%d0%be%d0%bd%d1%86%d0%b5%d1%80%d1%82-%d0%bd%d0%b0-%d0%b4%d0%b5%d1%82%d1%81%d0%ba%d0%b8%d0%be%d1%82-%d1%85%d0%be%d1%80-%d1%84%d0%b0%d0%bb%d1%81%d0%b5%d1%82%d0%be/
LOCATION:бул. Гоце Делчев бр.4\, Скопје\, Скопје\, 1000\, Macedonia
CATEGORIES:концерт
ATTACH;FMTTYPE=image/jpeg:https://operabalet.mk/wp-content/uploads/2016/04/falseto-logo-01.jpg
END:VEVENT
END:VCALENDAR