BEGIN:VCALENDAR
VERSION:2.0
PRODID:-//Национална опера и балет - ECPv4.0.7//NONSGML v1.0//EN
CALSCALE:GREGORIAN
METHOD:PUBLISH
X-WR-CALNAME:Национална опера и балет
X-ORIGINAL-URL:https://operabalet.mk
X-WR-CALDESC:Events for Национална опера и балет
BEGIN:VEVENT
DTSTART;TZID="Europe/Skopje":20221026T190000
DTEND;TZID="Europe/Skopje":20221026T203000
DTSTAMP:20260423T112128
CREATED:20221025T162226
LAST-MODIFIED:20221025T162226
UID:3588-1666810800-1666816200@operabalet.mk
SUMMARY:ГАЛА КОНЦЕРТ НА СОЛИСТИ СО ПИЈАНО ПРИДРУЖБА (26.10.2022)
DESCRIPTION:\nНАЦИОНАЛНА ОПЕРА И БАЛЕТ\nГАЛА КОНЦЕРТ НА СОЛИСТИ СО ПИЈАНО ПРИДРУЖБА\nГОСТУВАЊЕ НА ОПЕРСКИТЕ СОЛИСТИ ОД ОПЕРАТА ВО ЦЕНТАР ЗА КУЛТУРА „МАРКО ЦЕПЕНКОВ“ – ПРИЛЕП\n26.10.2022 \, ЦЕНТАР ЗА КУЛТУРА „МАРКО ЦЕПЕНКОВ“ – ПРИЛЕП \, 19ч.\n \nСОЛИСТИ:\nПавлина Н. Георгиева\nЕлена Голомеова\nНевен Силјановски\nКатерина Стојановска\nСоња Пендовска – Мадевска\nАлександар Стефаноски\nПИЈАНО : Јанинка Невчева\n \nП Р О Г Р А М А  \n\n\n\tВ. Ди. Киара – Наполитанска песна „La Spagnola“\n\nИсполнува: Катерина Стојановска\n\n\n\tГ.Доницети- Арија на Гаспаро од операта „Рита“\n\nИсполнува: Невен Силјановски\n\n\n\tЏ.Росини – арија на Дон Базилио од операта Севилскиот бербер\n\nИсполнува: Александар Стефаноски\n\n\n\tЏ. Пучини - Арија на Лаурета од операта „Џани Скики“\n\nИсполнува: Елена Голомеова\n\n\n\tЏ.Пучини - Арија на Тоска од операта „Тоска“\n\nИсполнува: Павлина Н. Георгиева\n\n\n\tЏ.Пучини – Арија на Мизета од операта „Боеми“\n\nИсполнува: Катерина Стојановска\n\n\n\tП.Маскањи - Арија на Алфио од операта „Кавалерија Рустикна“\n\nИсполнува: Невен Силјановски\n\n\n\tП.Маскањи - Арија на Сантуца од операта „ Кавалерија Русткана“\n\nИсполнува: Павлина Н. Георгиева\n\n\n\tЏ.Верди – арија на Фиеско операта Симон боканегра\n\nИсполнува: Александар Стефаноски\n\n\n\tЖ.Бизе - Арија на Микела од Операта „Кармен“\n\nИсполнува: Елена Голомеова\n\n\n\tЖ.Бизе - Арија на Кармен од операта „Кармен“ ( Хабанера) – Ж.Бизе\n\nИсполнува: Соња Пендовска – Мадевска\n\n\n\tШ.Гуно - Рондо на Мефистофелес од операта „Фауст“\n\nИсполнува: Невен Силјановски\n\n\n\tШтраус – Арија на Аделе од Операта „Лилјакот“\n\nИсполнува: Катерина Стојановска\n\n\n\tЏ.Верди - Арија на Леонора од Операта „ La forca del destino Pace“\n\nИсполнува: Павлина Н. Георгиева\n\n\n\tШ. Гуно - Арија на Јулија од операта Ромео и Јулија\n\nИсполнува: Елена Голомеова\n\n\n\tЖ.Офенбах - Дует на Антонија и Никлаус од Операта „Хофманови приказни“  Исполнуваат: Елена Голомеова и Соња Пендовска – Мадевска\n\n 
URL:https://operabalet.mk/event/%d0%b3%d0%b0%d0%bb%d0%b0-%d0%ba%d0%be%d0%bd%d1%86%d0%b5%d1%80%d1%82-%d0%bd%d0%b0-%d1%81%d0%be%d0%bb%d0%b8%d1%81%d1%82%d0%b8-%d1%81%d0%be-%d0%bf%d0%b8%d1%98%d0%b0%d0%bd%d0%be-%d0%bf%d1%80%d0%b8%d0%b4/
LOCATION:Array
CATEGORIES:концерт
ATTACH;FMTTYPE=image/gif:https://operabalet.mk/wp-content/uploads/2016/02/03.gif
END:VEVENT
END:VCALENDAR