BEGIN:VCALENDAR
VERSION:2.0
PRODID:-//Национална опера и балет - ECPv4.0.7//NONSGML v1.0//EN
CALSCALE:GREGORIAN
METHOD:PUBLISH
X-WR-CALNAME:Национална опера и балет
X-ORIGINAL-URL:https://operabalet.mk
X-WR-CALDESC:Events for Национална опера и балет
BEGIN:VEVENT
DTSTART;TZID="UTC+0":20210122T200000
DTEND;TZID="UTC+0":20210122T213000
DTSTAMP:20260423T170129
CREATED:20210112T111110
LAST-MODIFIED:20210118T115648
UID:2905-1611345600-1611351000@operabalet.mk
SUMMARY:Гала оперски концерт  и  Болеро\, М. Равел - балет (22.1.2021)
DESCRIPTION:\nГАЛА ОПЕРСКИ КОНЦЕРТ и\n„БОЛЕРО“ - Морис Равел (балетска претстава)\n22.1.2021 -20.00 ч\n\nГала оперски концерт\nНастапуваат солисти и оркестарот на Националната опера и балет\nДиригент: Бисера Чадловска\n\n\nСолисти:\nСандра Митровска - сопран\nКатерина Стојановска - сопран\nЃорѓи Цуцковски - тенор\nМарјан Јованоски - баритон\n\nПрограма:\n\nЖ. Бизе: Антракт од операта „Кармен“\nЖ. Масне: Арија на Вертер од операта „Вертер“ – Ѓорѓи Цуцковски\nФ. Чилеа: Арија на Адријана Лекуврер од операта „Адријана Лекуврер“ – Сандра Митровска\nУ.Џордано: Арија на  Жерар  од операта Андреa Шениер – Марјан Јованоски\nЏ. Пучини: Арија на Мими од операта „Боеми“ – Катерина Стојановска\nЏ. Пучини: Арија на Каварадоси од операта „Тоска“ – Ѓорѓи Цуцковски\nЏ.Верди - Арија на гроф Луна од операта \,\,Трубадур\,\, - Марјан Јованоски\nА. Дворжак: Арија на Русалка од операта „Русалка“ – Катерина Стојановска\nЏ. Пучини: Арија на Чо Чо Сан од операта „Мадам Батерфлај“ -  Сандра Митровска\nФ. Лехар: Дует на Хана и Данило од операта „Веселата вдовица“ – Катерина Стојановска и Ѓорѓи Цуцковски\nМ. Равел: Болеро – учествува женскиот балетски ансамбл на НОБ и солист на операта Катерина Стојановска\n\n\n\n\nВо вториот дел\, публиката ќе има можност да го проследи балетот „Болеро“ од Морис Равел\, во кореографија на Саша Евтимова\, подготвена во согласност со препораките на Комисијата за заразни болести. Тоа е балет под маски\, без допир и на дистанца.\nНастапува: Женскиот балетски ансамбл\, Катерина Стојановска – сопран и Оркестарот на Националната опера и балет.\nДиригент: Бисера Чадловска\nКонцерт мајстор: Јане Бакевски\nКореограф: Саша Евтимова\nКостимограф: Марија Пупучевска\nСветло дизајн: Милчо Александров \n\n\nНАПОМЕНА:\n\nНастанот ќе се одржи според протоколите предвидени со моменталната состојба предизвикана од пандемијата Ковид-19 за одржување настани\, одобрени од Комисијата за заразни болести. Задолжително е носење на заштитна маска.\nВе молиме\, почитувајте ги мерките за заштита.
URL:https://operabalet.mk/event/%d0%b3%d0%b0%d0%bb%d0%b0-%d0%be%d0%bf%d0%b5%d1%80%d1%81%d0%ba%d0%b8-%d0%ba%d0%be%d0%bd%d1%86%d0%b5%d1%80%d1%82-%d0%b8-%d0%b1%d0%be%d0%bb%d0%b5%d1%80%d0%be-%d0%bc-%d1%80%d0%b0%d0%b2%d0%b5%d0%bb-2/
LOCATION:Array
CATEGORIES:балет,концерт
ATTACH;FMTTYPE=image/jpeg:https://operabalet.mk/wp-content/uploads/2020/09/orkestar-efekt.jpg
END:VEVENT
END:VCALENDAR