BEGIN:VCALENDAR
VERSION:2.0
PRODID:-//Национална опера и балет - ECPv4.0.7//NONSGML v1.0//EN
CALSCALE:GREGORIAN
METHOD:PUBLISH
X-WR-CALNAME:Национална опера и балет
X-ORIGINAL-URL:https://operabalet.mk
X-WR-CALDESC:Events for Национална опера и балет
BEGIN:VEVENT
DTSTART;TZID="Europe/Skopje":20230308T200000
DTEND;TZID="Europe/Skopje":20230308T213000
DTSTAMP:20260423T100256
CREATED:20221101T143835
LAST-MODIFIED:20230307T102556
UID:3612-1678305600-1678311000@operabalet.mk
SUMMARY:ГАЛА ОПЕРСКИ КОНЦЕРТ НА СОПРАНОТ  АЛЕКСАНДРИНА ПЕНДАЧАНСКА (8.3.2023)
DESCRIPTION:\nГАЛА ОПЕРСКИ КОНЦЕРТ НА СОПРАНОТ АЛЕКСАНДРИНА ПЕНДАЧАНСКА\nДиригент : Бисера Чадловска\nКонцерт мајстор: Климент Тодороски\nГости солисти : \nРалица Богданова (Бугарија) - сопран\nМарјан Јованоски - баритон\nНастапува оркестарот на Националната опера и балет\nИнспициенти: Љупчо Полизов\, Драган Костадиновиќ\, Марко Павлевски\nПРОГРАМА: \nЖ. Бизе - Увертира од операта„Кармен“\nЖ. Бизе - Хабанера од операта „Кармен“\nЖ. Бизе - Сегедиља од операта „Кармен\nИсполнува: Александрина Пендачанска\n Ж. Бизе –арија на Ескамиљо од операта \,\,Кармен\,\,\nИсполнува: Марјан Јованоски\nЏ.Росини - Арија на Розина од операта „Севилскиот бербер“\nИсполнува: Ралица Богданова\nЈ.С.Бах –Арија од ораториумот „Паисја по Матеја“\nИсполнуваат: Александрина Пендачанска и Ралица Богданова \nВ.А.Моцарт - Арија на Дона Елвира од операта „Дон Џовани“\nВ.А.Моцарт - Арија на Фјордилиџи од операта „Така прават сите“\nИсполнува: Александрина Пендачанска\nВ.А.Моцарт- Увертира од операта „Свадбата на Фигаро“\nДует на Фјордилиџи и Дорабела од операта „Така прават сите“\nИсполнува: Александрина Пендачанска и Ралица Богданова\nУ.Џордано – Арија на Жерар од операта „Андреа Шение“\nИсполнува: Марјан Јованоски\nЏ.Верди – Арија на Виолета од Операта „Травијата“\nИсполнува: Ралица Богданова\nЏ.Верди – Арија на Лејди Магбет од Операта „Магбет“\nИсполнува: Александрина Пендачанска\nЏ.Росини – дует на двете мачки\nИсполнуваат:Александрина Пендачанска и Ралица Богданова\nБИС – Ф. Лехар – арија на Џудита од истоимената опера\n
URL:https://operabalet.mk/event/%d0%b3%d0%b0%d0%bb%d0%b0-%d0%be%d0%bf%d0%b5%d1%80%d1%81%d0%ba%d0%b8-%d0%ba%d0%be%d0%bd%d1%86%d0%b5%d1%80%d1%82-%d0%bd%d0%b0-%d1%81%d0%be%d0%bf%d1%80%d0%b0%d0%bd%d0%be%d1%82-%d0%b0%d0%bb%d0%b5%d0%ba/
LOCATION:Array
CATEGORIES:концерт
ATTACH;FMTTYPE=image/gif:https://operabalet.mk/wp-content/uploads/2022/11/pendanchanska.gif
END:VEVENT
END:VCALENDAR