BEGIN:VCALENDAR
VERSION:2.0
PRODID:-//Национална опера и балет - ECPv4.0.7//NONSGML v1.0//EN
CALSCALE:GREGORIAN
METHOD:PUBLISH
X-WR-CALNAME:Национална опера и балет
X-ORIGINAL-URL:https://operabalet.mk
X-WR-CALDESC:Events for Национална опера и балет
BEGIN:VEVENT
DTSTART;TZID="UTC+0":20201009T200000
DTEND;TZID="UTC+0":20201009T211000
DTSTAMP:20260423T165941
CREATED:20200930T135854
LAST-MODIFIED:20201006T063650
UID:2818-1602273600-1602277800@operabalet.mk
SUMMARY:Гала оперски концерт 9.10.2020
DESCRIPTION:Гала оперски концерт\n09.10.2020\,  20.00ч\nДиригент: Иван Еминовиќ\nРежисер: Дејан Прошев\nКонцерт мајстор: Климент Тодороски\nХор мајстори: Јасмина Ѓорѓеска\, Ѓургица Дашиќ\nУчествуваат:\nВесна Ѓиновска Илкова\, Ристе Велков\, Дејан Стоев\, Соња Пендовска Мадевска\, Марика Поповиќ\, Павлина Новакова Георгиев\, Наде Талевска Спасовска\, Злата Тошевска\, Ана Ројдева\, Александра Лазаревска Василев\nХорот и оркестарот на Национална опера и балет\nИспициенти: Љупчо Полизов\, Драган Костадиновиќ\, Марко Павлевски\nКорепетитори : Елена Сиљаноска\, Јанинка Невчева\, Андреја Наунов\n******************************\nПРОТОКОЛ ЗА ПУБЛИКА \nВлезот на публиката ќе се одвива во две фази\, прва фаза/влез – дезинфекција на раце\, обувки и мерење на температура и втора фаза/влез – приложување на билет.\nВлезот за публиката е отворен еден час пред почеток на претставата/настанот.\n\n\n\tЗадолжително носење на маска за секој посетител - влезот нема да биде дозволен без маски;\n\tЗадолжителна дезинфекција на раце и обувки на влез\,\n\tЗадолжително мерење на температура на влез\,\n\tПоставени и означени места за влез пред билетарата\,\n\tИма јасно и видно истакнато известување за придржување на мерките\,\n\tДоколку се покаже температура над 37 с не се пушта да влезе\,\n\tВлезот е еден по еден во фоајето со максимално придржување на дистанца од 1.5 до 2 метра\,\n\tНа влезните врати за публика во гледалиште има по 1 распоредител и се пушта по 1 посетител\,\n\tГардеробата е затворена (секој посетител ќе мора да си ја земе со себе)\n\tИзлезот од сала е на принцип 1 по 1 со максимално придржување на дистанца од 1.5 до 2 метра\,\n
URL:https://operabalet.mk/event/%d0%b3%d0%b0%d0%bb%d0%b0-%d0%be%d0%bf%d0%b5%d1%80%d1%81%d0%ba%d0%b8-%d0%ba%d0%be%d0%bd%d1%86%d0%b5%d1%80%d1%82-9-10-2020/
LOCATION:Array
CATEGORIES:концерт
ATTACH;FMTTYPE=image/jpeg:https://operabalet.mk/wp-content/uploads/2020/09/orkestar-efekt.jpg
END:VEVENT
END:VCALENDAR