BEGIN:VCALENDAR
VERSION:2.0
PRODID:-//Национална опера и балет - ECPv4.0.7//NONSGML v1.0//EN
CALSCALE:GREGORIAN
METHOD:PUBLISH
X-WR-CALNAME:Национална опера и балет
X-ORIGINAL-URL:https://operabalet.mk
X-WR-CALDESC:Events for Национална опера и балет
BEGIN:VEVENT
DTSTART;TZID="Europe/Skopje":20221105T200000
DTEND;TZID="Europe/Skopje":20221105T212000
DTSTAMP:20260423T123629
CREATED:20221025T140155
LAST-MODIFIED:20221102T091234
UID:3586-1667678400-1667683200@operabalet.mk
SUMMARY:ГОПОЃИЦИТЕ ОД АВИЊОН - Балет во 9 слики (5.11.2022)
DESCRIPTION:\nГОПОЃИЦИТЕ ОД АВИЊОН \nБалет во 9 слики\n5.11.2022\nБалетската претстава „Госпоѓиците од Авињон“  e дел од  фестивалот „Есенски музички свечености“\nАВТОРСКА ЕКИПА: \nМУЗИКА: Калиопи Букле\nКОРЕОГРАФИЈА И РЕЖИЈА: Олга Панго\nЛИБРЕТО И ДРАМАТУРГИЈА: Сашо Димоски\nАСИСТЕНТИ НА КОРЕОГРАФОТ:  Горан Божинов\, Саша Евтимова\nКОСТИМОГРАФ: Раде Василев\nМУЛТИМЕДИЈА И ДИЗАЈН: Емил Петров\nДИЗАЈН НА СВЕТЛО: Милчо Александров\nДИЗАЈН НА ШМИНКА: Златица Поповска\nКористени се сценографски елементи од операта „Змејовата невеста“ – сценограф Валентин Светозарев\n \nУЛОГИ: \nОЛГА КОКЛОВА – Александра Мијалкова\nДОРА МААР - Мими Поп-Алексова Атанасовска\nЕВА ГУЕЛ - Ивана Коцевска\nМАРИ-ТЕРЕЗ ВАЛТЕР - Саша Евтимова\nФРАНСОАЗ ЖИЛО - Христина Наќевска\nПОШТАРОТ - Мирослав Митрашиновиќ\nСЛАТКАРОТ - Балаж Лашеи  (Унгарија)\nПРИЈАТЕЛОТ - Агим Бафтии\nЧЕВЛАРОТ - Ендру Кук (Англија)
URL:https://operabalet.mk/event/%d0%b3%d0%be%d0%bf%d0%be%d1%93%d0%b8%d1%86%d0%b8%d1%82%d0%b5-%d0%be%d0%b4-%d0%b0%d0%b2%d0%b8%d1%9a%d0%be%d0%bd-%d0%b1%d0%b0%d0%bb%d0%b5%d1%82-%d0%b2%d0%be-9-%d1%81%d0%bb%d0%b8%d0%ba%d0%b8-5-11-2022/
LOCATION:Array
CATEGORIES:балет
ATTACH;FMTTYPE=image/jpeg:https://operabalet.mk/wp-content/uploads/2022/02/avignon.jpg
END:VEVENT
END:VCALENDAR