BEGIN:VCALENDAR
VERSION:2.0
PRODID:-//Национална опера и балет - ECPv4.0.7//NONSGML v1.0//EN
CALSCALE:GREGORIAN
METHOD:PUBLISH
X-WR-CALNAME:Национална опера и балет
X-ORIGINAL-URL:https://operabalet.mk
X-WR-CALDESC:Events for Национална опера и балет
BEGIN:VEVENT
DTSTART;TZID="Europe/Skopje":20260123T193000
DTEND;TZID="Europe/Skopje":20260123T220000
DTSTAMP:20260423T083341
CREATED:20251225T105731
LAST-MODIFIED:20260123T080317
UID:4816-1769196600-1769205600@operabalet.mk
SUMMARY:„ГОСПОЃА БОВАРИ“ - балет (23.1.2026)
DESCRIPTION:\n\n23.1.2026\, 19:30 часот\n„ГОСПОЃА БОВАРИ“\nМузика: К. Сен-Санс\, М. Равел\, Ж. Масне\, Ф. Менделсон\, Г. Ф. Хендл\nДиригент: Едуард Амбарцумјан (Ерменија)\nКореограф: Виктор Ишчук (Украина)\nЛибрето: според романот „Госпоѓа Бовари“ на Г. Флобер\nСценограф: Андреј Злобин (Украина)\nКостимограф: Гана Ипатиева (Украина)\nГенерален менаџер на проектот: Киро Павлов\nАсистент-кореограф: Владимир Борисов (Украина)\nАсистент-костимограф: Марија Пупучевска\, Ангела Богеска\nРепетитори: Саша Евтимова\, Владимир Борисов (Украина)\, Дафина Данилоска – Кочевска\, Марија Јосифовска Ристовска\, Билјана Басмаџиева Ковачевски\nКонцерт мајстор: Бранислав Автовски\nПијанист: Андреја Наунов\nСветло дизајн: Милчо Александров\nИнспициенти: Тијана Тарчуговска Георгиева\, Дубравка Шопова\nКорепетитори: Марјан Василевски\, Стефан Пехчевски\nВо главните улоги:\nЕма Бовари: Марија Кичевска Шокаровска\nШарл Бовари: Франциско Хименез Руиз\nРудолф Буланже: Балаж Лочеи\nТрговецот Лере (шеф на кабаре): Дмитро Чеботар\nАптекар: Ендру Кук\nНастапуваат солисти\, балетскиот ансамбл и оркестарот на Националната опера и балет\n\n
URL:https://operabalet.mk/event/%d0%b3%d0%be%d1%81%d0%bf%d0%be%d1%93%d0%b0-%d0%b1%d0%be%d0%b2%d0%b0%d1%80%d0%b8-%d0%b1%d0%b0%d0%bb%d0%b5%d1%82-23-1-2026%d0%b7/
LOCATION:Array
CATEGORIES:балет
ATTACH;FMTTYPE=image/jpeg:https://operabalet.mk/wp-content/uploads/2025/10/bovari.jpeg
END:VEVENT
END:VCALENDAR