BEGIN:VCALENDAR
VERSION:2.0
PRODID:-//Национална опера и балет - ECPv4.0.7//NONSGML v1.0//EN
CALSCALE:GREGORIAN
METHOD:PUBLISH
X-WR-CALNAME:Национална опера и балет
X-ORIGINAL-URL:https://operabalet.mk
X-WR-CALDESC:Events for Национална опера и балет
BEGIN:VEVENT
DTSTART;TZID="Europe/Skopje":20230420T200000
DTEND;TZID="Europe/Skopje":20230420T211000
DTSTAMP:20260423T170647
CREATED:20230411T101422
LAST-MODIFIED:20230411T101433
UID:3763-1682020800-1682025000@operabalet.mk
SUMMARY:„ГОСПОЃИЦИТЕ ОД АВИЊОН“ - НУЦК „ТРАЈКО ПРОКОПИЕВ“ КУМАНОВО
DESCRIPTION:\nГОСТУВАЊЕ НА БАЛЕТОТ ПРИ НУ НОБ ВО НУЦК „ТРАЈКО ПРОКОПИЕВ“ КУМАНОВО\n„ГОСПОЃИЦИТЕ ОД АВИЊОН“\n балет во девет слики\n 20.4.2023 - 20.00 часот\nМузика: Калиопи Букле\nКореографија и режија: Олга Панго\nЛибрето и драматургија: Сашо Димоски\nАсистенти на кореографот: Горан Божинов\, Саша Евтимова\nКостимограф: Раде Василев\nМултимедија и дизајн: Емил Петров\nДизајн на светло: Милчо Александров\nДизајн на шминка: Златица Поповска\nКористени се сценографски елементи од операта „Змејовата невеста“ - сценограф Валентин Светозарев\nИнспициенти: Дубравка Шопова\, Тијана Тарчуговска Георгиева\nНастапуваат:\nОЛГА КОКЛОВА – Александра Мијалкова\nДОРА МААР – Мими Поп-Алексова Атанасовска\nЕВА ГУЕЛ – Ивана Коцевска\nМАРИ-ТЕРЕЗ ВАЛТЕР – Саша Евтимова\nФРАНСОАЗ ЖИЛО – Христина Наќевска\nПОШТАРОТ – Мирослав Митрашиновиќ\nСЛАТКАРОТ – Балаж Лочеи (Унгарија)\nПРИЈАТЕЛОТ – Агим Бафтии\nЧЕВЛАРОТ – Ендру Кук (Англија)\nЕПИФАНИЈА\nБивајќи загледан во еден свој сон во Пикасовата слика „Госпоѓиците од Авињон“\, врз платното слета една мува. Мувата\, еднакво љубопитна колку и јас\, почна да зуи насекаде по сликата\, да прелетува од еден до друг нејзин крај\, да ја испитува со кураторска прецизност. За разлика од мене\, мувата имаше можност да го допре платното\, на нејзината текстура да ги остави своите отпечатоци врз боите и низ формите. Допирајќи ја сликата\, мувата одново ја создаваше\, зуејќи.\nВо тој миг од сонот го скицирав текстот „Госпоѓиците од Авињон‘“ - Сашо Димоски\, либретист
URL:https://operabalet.mk/event/%d0%b3%d0%be%d1%81%d0%bf%d0%be%d1%93%d0%b8%d1%86%d0%b8%d1%82%d0%b5-%d0%be%d0%b4-%d0%b0%d0%b2%d0%b8%d1%9a%d0%be%d0%bd-%d0%bd%d1%83%d1%86%d0%ba-%d1%82%d1%80%d0%b0%d1%98/
LOCATION:Array
CATEGORIES:балет
ATTACH;FMTTYPE=image/jpeg:https://operabalet.mk/wp-content/uploads/2022/02/avignon.jpg
END:VEVENT
END:VCALENDAR