BEGIN:VCALENDAR
VERSION:2.0
PRODID:-//Национална опера и балет - ECPv4.0.7//NONSGML v1.0//EN
CALSCALE:GREGORIAN
METHOD:PUBLISH
X-WR-CALNAME:Национална опера и балет
X-ORIGINAL-URL:https://operabalet.mk
X-WR-CALDESC:Events for Национална опера и балет
BEGIN:VEVENT
DTSTART;TZID="Europe/Skopje":20221001T200000
DTEND;TZID="Europe/Skopje":20221001T210000
DTSTAMP:20260423T134644
CREATED:20220822T204528
LAST-MODIFIED:20220914T103217
UID:3528-1664654400-1664658000@operabalet.mk
SUMMARY:Госпоѓиците од Авињон (1.10.2022) - балетска претстава
DESCRIPTION:\nГОСТУВАЊЕ ВО ВЕЛЕС НА ИНТЕРНАЦИОНАЛЕН ФЕСТИВАЛ НА АНТИЧКА ДРАМА „СТОБИ“\n\nГОСПОЃИЦИТЕ ОД АВИЊОН\nбалет во девет слики\n1.10.2022 \n\nАВТОРСКА ЕКИПА:\nМУЗИКА: Калиопи Букле\nКОРЕОГРАФИЈА И РЕЖИЈА: Олга Панго\nЛИБРЕТО И ДРАМАТУРГИЈА: Сашо Димоски\nАСИСТЕНТИ НА КОРЕОГРАФОТ: Горан Божинов\, Саша Евтимова\nКОСТИМОГРАФ: Раде Василев\nМУЛТИМЕДИЈА И ДИЗАЈН: Емил Петров\nДИЗАЈН НА СВЕТЛО: Милчо Александров\nДИЗАЈН НА ШМИНКА: Златица Поповска\nКористени се сценографски елементи од операта „Змејовата невеста“ – СЦЕНОГРАФ: Валентин Светозарев\n\nНастапуваат:\nОлга Коклова: Александра Мијалкова\nДора Маар: Мими Поп-Алексова Атанасовска\nЕва Гуел: Ивана Коцевска\nМари–Терез Валтер: Саша Евтимова\nФрансоаз Жило: Христина Наќевска\nПоштарот: Мирослав Митрашиновиќ\nСлаткарот: Балаж Лочеи (Унгарија)\nПријателот: Агим Бафтии\nЧевларот: Ендру Кук (Англија)
URL:https://operabalet.mk/event/%d0%b3%d0%be%d1%81%d0%bf%d0%be%d1%93%d0%b8%d1%86%d0%b8%d1%82%d0%b5-%d0%be%d0%b4-%d0%b0%d0%b2%d0%b8%d1%9a%d0%be%d0%bd-1-10-2022-%d0%b1%d0%b0%d0%bb%d0%b5%d1%82%d1%81%d0%ba%d0%b0-%d0%bf%d1%80%d0%b5/
LOCATION:Array
CATEGORIES:балет
ATTACH;FMTTYPE=image/jpeg:https://operabalet.mk/wp-content/uploads/2022/02/avignon.jpg
END:VEVENT
END:VCALENDAR