BEGIN:VCALENDAR
VERSION:2.0
PRODID:-//Национална опера и балет - ECPv4.0.7//NONSGML v1.0//EN
CALSCALE:GREGORIAN
METHOD:PUBLISH
X-WR-CALNAME:Национална опера и балет
X-ORIGINAL-URL:https://operabalet.mk
X-WR-CALDESC:Events for Национална опера и балет
BEGIN:VEVENT
DTSTART;TZID="Europe/Skopje":20240411T200000
DTEND;TZID="Europe/Skopje":20240411T210000
DTSTAMP:20260423T100029
CREATED:20240321T090339
LAST-MODIFIED:20240327T142302
UID:4021-1712865600-1712869200@operabalet.mk
SUMMARY:ГОСПОЃИЦИТЕ ОД АВИЊОН (11.4.2024)
DESCRIPTION:\n„Госпоѓиците од Авињон“ \n11.4.2024 - 20ч\nБалет во 9 слики\nБалетската претстава „Госпоѓиците од Авињон“ ќе го отвори овогодинешното издание на фестивалот „Танц-фест“ Скопје 2024\nАВТОРСКА ЕКИПА:\nМУЗИКА: Калиопи Букле\nКОРЕОГРАФИЈА И РЕЖИЈА: Олга Панго\nЛИБРЕТО И ДРАМАТУРГИЈА: Сашо Димоски\nАСИСТЕНТИ НА КОРЕОГРАФОТ: Горан Божинов\, Саша Евтимова\nКОСТИМОГРАФ: Раде Василев\nМУЛТИМЕДИЈА И ДИЗАЈН: Емил Петров\nДИЗАЈН НА СВЕТЛО: Милчо Александров\nДИЗАЈН НА ШМИНКА: Златица Поповска\nКористени се сценографски елементи од операта „Змејовата невеста“ – сценограф Валентин Светозарев\nУЛОГИ\nОЛГА КОКЛОВА – Александра Мијалкова\nДОРА МААР – Мими Поп-Алексова Атанасовска\nЕВА ГУЕЛ – Ивана Коцевска\nМАРИ-ТЕРЕЗ ВАЛТЕР – Саша Евтимова\nФРАНСОАЗ ЖИЛО – Христина Наќевска\nПОШТАРОТ – Мирослав Митрашиновиќ\nСЛАТКАРОТ – Балаж Лoчеи  (Унгарија)\nПРИЈАТЕЛОТ – Агим Бафтии\nЧЕВЛАРОТ – Ендру Кук  (Англија)\nВреметраење: 1 час\nПриказната ги демистифицира/деконструира петте куртизани препишувајќи ги во пет жени кои го одбележале бурниот љубовен живот на Пикасо и односите кои тие жени ги имаат со „ликови без важни својства“\, како што запишал драматургот. Овие пет љубовни приказни\, околу кои постојано зуе една мува\, формираат целина во заговорот против мувата – со цел да ја убијат\, а убивајќи ја – засекогаш да ја впијат во себе.
URL:https://operabalet.mk/event/%d0%b3%d0%be%d1%81%d0%bf%d0%be%d1%93%d0%b8%d1%86%d0%b8%d1%82%d0%b5-%d0%be%d0%b4-%d0%b0%d0%b2%d0%b8%d1%9a%d0%be%d0%bd-11-4-2024/
LOCATION:Array
CATEGORIES:балет
ATTACH;FMTTYPE=image/jpeg:https://operabalet.mk/wp-content/uploads/2022/02/avignon.jpg
END:VEVENT
END:VCALENDAR