BEGIN:VCALENDAR
VERSION:2.0
PRODID:-//Национална опера и балет - ECPv4.0.7//NONSGML v1.0//EN
CALSCALE:GREGORIAN
METHOD:PUBLISH
X-WR-CALNAME:Национална опера и балет
X-ORIGINAL-URL:https://operabalet.mk
X-WR-CALDESC:Events for Национална опера и балет
BEGIN:VEVENT
DTSTART;TZID="Europe/Skopje":20250422T200000
DTEND;TZID="Europe/Skopje":20250422T220000
DTSTAMP:20260423T111310
CREATED:20250402T120427
LAST-MODIFIED:20250404T082342
UID:4484-1745352000-1745359200@operabalet.mk
SUMMARY:Денови на македонски кореографи - отворање (22.04.2025)
DESCRIPTION:\n22.4.2025\, 20 часот\, Мала сцена – Отворање на „Денови на македонски кореографи“\n \n„Mockumentary“ - премиера\nКореографија: Адријана Данчевска Ровчанин\nМузика: Александар Гроздановски\nСценографија: Ивана Мојсовска\nКостим: Адријана Данчевска Ровчанин\nНастапуваат: Дејан Битровски\, Адријана Данчевска Ровчанин\n“Mockumentary“ е танцова претстава која ja истражува политичката сцена и улогата на изведувачот во таа приказна. Од позиција на тело\, во оваа динамична и често контрадикторна стварност – самоопределување. Саркастичен и манипулативен пристап создава конфликт. Танцот станува метафора на нестабилност и постојана промена\, додека хуморот ги открива апсурдните аспекти на моќта.\n \n„Exo на баронот“ - премиера\nКореографија и концепт: Дејан Битровски\nМузика: HERZEL\nКостими: Скопје Танцов Театар\nСценографија: Матеа Мијановиќ\nНастапуваат: Анастасија Данчевска\, Стефани Шаршмит\, Нина Петрушевска\nТанцова претстава што ја истражува психолошката манипулација во современото општество преку темите на синдромот Минхаузен и неговата модерна манифестација. Изведбата прикажува како луѓето се принудени да создадат искривени верзии од себе под влијание на социјалните медиуми\, дезинформациите и општествените очекувања. Користејќи танц\, музика и визуелни елементи\, претставата ја нагласува борбата за зачувување на автентичниот идентитет во нашата ера.\n \nСкопје танцов театар\, 2025 / Национална опера и балет\n
URL:https://operabalet.mk/event/%d0%b4%d0%b5%d0%bd%d0%be%d0%b2%d0%b8-%d0%bd%d0%b0-%d0%bc%d0%b0%d0%ba%d0%b5%d0%b4%d0%be%d0%bd%d1%81%d0%ba%d0%b8-%d0%ba%d0%be%d1%80%d0%b5%d0%be%d0%b3%d1%80%d0%b0%d1%84%d0%b8-%d0%be%d1%82%d0%b2%d0%be/
LOCATION:Array
CATEGORIES:балет
ATTACH;FMTTYPE=image/jpeg:https://operabalet.mk/wp-content/uploads/2025/04/mockumentary.jpg
END:VEVENT
END:VCALENDAR