BEGIN:VCALENDAR
VERSION:2.0
PRODID:-//Национална опера и балет - ECPv4.0.7//NONSGML v1.0//EN
CALSCALE:GREGORIAN
METHOD:PUBLISH
X-WR-CALNAME:Национална опера и балет
X-ORIGINAL-URL:https://operabalet.mk
X-WR-CALDESC:Events for Национална опера и балет
BEGIN:VEVENT
DTSTART;TZID="UTC+0":20200421T200000
DTEND;TZID="UTC+0":20200421T213000
DTSTAMP:20260424T204925
CREATED:20200420T110357
LAST-MODIFIED:20200420T110426
UID:2741-1587499200-1587504600@operabalet.mk
SUMMARY:ДОН КИХОТ – ЛУДВИГ МИНКУС (21.4.2020)
DESCRIPTION:\nОПЕРА И БАЛЕТ ВО ВАШИТЕ ДОМОВИ \nДраги љубители на оперската и балетска уметност\,\nПочнувајќи од вторник\, 7 април со почеток во 20.00 часот на официјалниот YouTube канал на Националната опера и балет\, секој вторник и петок ќе имате можност да ги погледнете вашите омилени оперски и балетски претстави.\nЛинк до каналот:\nhttps://www.youtube.com/user/makoib\n„Дон Кихот“ е балет во три чина базиран на познатиот истоимен роман од Мигел де Сервантес. Во него Минкус се покажува како одличен балетски мајстор и познавач на танцовиот стил. Во музиката\, полна со мелодичност\, силен ритмички пулс и чисти хармонски структури тој јасно го одразува духот на своето време.\nДиригент: Бисера Чадловска\nКореограф: Виктор Јаременко (Украина)\nСценограф: Андреј Злобин (Украина)\nКостимограф: Гана Ипатиева (Украина)\nРепетитори: Тања Вујисиќ Тодоровска\, Снежана Филиповска\, Лора Тарчуговска\nНастапуваат:\nКитри: Александра Мијалкова\nБазил: Васил Чичијашвили (Грузија)\nЕспадо: Бобан Ковачевски\nМерцедес: Ивана Коцевска\nУлична: Ивана Коцевска\nДон Кихот: Славчо Димовски\nСанчо Панса: Лора Тарчуговска\nУченици од ДМБУЦ – Илија Николовски Луј\nБалетскиот ансамбл и оркестарот на Националната опера и балет
URL:https://operabalet.mk/event/%d0%b4%d0%be%d0%bd-%d0%ba%d0%b8%d1%85%d0%be%d1%82-%d0%bb%d1%83%d0%b4%d0%b2%d0%b8%d0%b3-%d0%bc%d0%b8%d0%bd%d0%ba%d1%83%d1%81-21-4-2020/
LOCATION:Array
CATEGORIES:балет
ATTACH;FMTTYPE=image/jpeg:https://operabalet.mk/wp-content/uploads/2017/10/don-kihot.jpg
END:VEVENT
END:VCALENDAR