BEGIN:VCALENDAR
VERSION:2.0
PRODID:-//Национална опера и балет - ECPv4.0.7//NONSGML v1.0//EN
CALSCALE:GREGORIAN
METHOD:PUBLISH
X-WR-CALNAME:Национална опера и балет
X-ORIGINAL-URL:https://operabalet.mk
X-WR-CALDESC:Events for Национална опера и балет
BEGIN:VEVENT
DTSTART;TZID="UTC+0":20161202T200000
DTEND;TZID="UTC+0":20161202T230000
DTSTAMP:20260424T153319
CREATED:20160930T183402
LAST-MODIFIED:20161122T051640
UID:813-1480708800-1480719600@operabalet.mk
SUMMARY:ЕВГЕНИЈ ОНЕГИН - П. И. Чајковски (02.12.2016)
DESCRIPTION:Русија\, XIX век\, млад благородник ја отфрла љубовта на една невина\, селска девојка. Пронаоѓајќи ја неколку години подоцна во Санкт Петербург\, омажена за принц\, сфаќа дека таа\, всушност\,  е неговата вистинска љубов. И таа сè уште го љуби\, но судбината ги разделила засекогаш. Ова е интересната приказна на Пушкин за неостварената љубов која Чајковски ја доведува до ново ниво со своите жестоки\, срастени ноти.\n\nДиригент: Иван Еминовиќ\nРежисер: Дејан Пројковски\nАс.режисер: Трајко Јордановски\, Љупка Јакимовска\nСценограф: Валентин Светозарев\nКостимограф: Марија Пупучевска\nКореограф: Олга Панго\nКонцерт мајстор: Јане Бакевски\nАсс. Хор мајстор: Јасмина Ѓорѓеска\, Ѓургица Дашиќ\nСветло дизајн: Васко Лисичов\nАсс. Режисери: Трајко Јордановски\, Љупка Јакимовска\nКорепетитори: Јанинка Невчева\, Андреј Наунов\, Елена Сиљаноска\n\n[video width="3840 " height="2160" mp4="http://mob.mk/wp-content/uploads/2016/04/Eugene-Onegin-Video.mp4" poster="http://mob.mk/wp-content/uploads/2016/05/evgeniiij-slide.jpg" autoplay="true"][/video]\n\nНАСТАПУВААТ:\nЛарина: Марика Поповиќ\nТатјана: Сандра Митровска\nОлга: Ирена Кавкалевска\nФилипјевна: Елена Тасевска\nЛенски: Дарко Нешовски\nЕвгениј Онегин: Борис Трајанов\nКнез Гремин: Игор Дурловски\nКапетан: Диме Петров\nЗарецки: Борко Биџовски
URL:https://operabalet.mk/event/%d0%b5%d0%b2%d0%b3%d0%b5%d0%bd%d0%b8%d1%98-%d0%be%d0%bd%d0%b5%d0%b3%d0%b8%d0%bd-%d0%bf-%d0%b8-%d1%87%d0%b0%d1%98%d0%ba%d0%be%d0%b2%d1%81%d0%ba%d0%b8-2/
LOCATION:бул. Гоце Делчев бр.4\, Скопје\, Скопје\, 1000\, Macedonia
CATEGORIES:опера
ATTACH;FMTTYPE=image/jpeg:https://operabalet.mk/wp-content/uploads/2016/05/evgeniiij-slide.jpg
END:VEVENT
END:VCALENDAR