BEGIN:VCALENDAR
VERSION:2.0
PRODID:-//Национална опера и балет - ECPv4.0.7//NONSGML v1.0//EN
CALSCALE:GREGORIAN
METHOD:PUBLISH
X-WR-CALNAME:Национална опера и балет
X-ORIGINAL-URL:https://operabalet.mk
X-WR-CALDESC:Events for Национална опера и балет
BEGIN:VEVENT
DTSTART;TZID="Europe/Skopje":20240412T200000
DTEND;TZID="Europe/Skopje":20240412T212000
DTSTAMP:20260423T085815
CREATED:20240408T083159
LAST-MODIFIED:20240408T083159
UID:4038-1712952000-1712956800@operabalet.mk
SUMMARY:ексклузивен концерт со оркестарот и солистите од Националната опера и балет(12.4.2024)
DESCRIPTION:\n\nНа 12 април со почеток во 20.00 часот  во Националната опера и балет\,  ќе се одржи ексклузивен концерт со оркестарот и солистите од Националната опера и балет\, во рамките на фестивалот „47. Денови на македонска музика“ 2024.\n\nНа концертот\, публиката ќе може да проследи дела од композиторите на кои им се одбележуваат јубелјните години од раѓањето Стојче Тошевски и Живојин Глишиќ\, премиерната изведба на делото на композиторот Стојан Стојков и делата на композиторите Димче Николески\, Фатос Лумани и Ристо Аврамовски.\n\nКако солисти на концертот ќе настапат Весна Ѓиновска Илкова\, сопран\, Наде Талевска\, сопран\, Гонца Богоромова\, сопран и Горан Начевски\, баритон\, во придружба на оркестарот\, а под диригентска палка на Иван Еминовиќ.\n\nВлезот за концертот е слободен.
URL:https://operabalet.mk/event/%d0%b5%d0%ba%d1%81%d0%ba%d0%bb%d1%83%d0%b7%d0%b8%d0%b2%d0%b5%d0%bd-%d0%ba%d0%be%d0%bd%d1%86%d0%b5%d1%80%d1%82-%d1%81%d0%be-%d0%be%d1%80%d0%ba%d0%b5%d1%81%d1%82%d0%b0%d1%80%d0%be%d1%82-%d0%b8-%d1%81/
LOCATION:Array
CATEGORIES:концерт
ATTACH;FMTTYPE=image/jpeg:https://operabalet.mk/wp-content/uploads/2020/09/orkestar-efekt.jpg
END:VEVENT
END:VCALENDAR