BEGIN:VCALENDAR
VERSION:2.0
PRODID:-//Национална опера и балет - ECPv4.0.7//NONSGML v1.0//EN
CALSCALE:GREGORIAN
METHOD:PUBLISH
X-WR-CALNAME:Национална опера и балет
X-ORIGINAL-URL:https://operabalet.mk
X-WR-CALDESC:Events for Национална опера и балет
BEGIN:VEVENT
DTSTART;TZID="UTC+0":20201104T190000
DTEND;TZID="UTC+0":20201104T201500
DTSTAMP:20260423T184147
CREATED:20201027T121459
LAST-MODIFIED:20201103T182419
UID:2824-1604516400-1604520900@operabalet.mk
SUMMARY:Есенски музички свечености 2020 - Гала оперски концерт
DESCRIPTION:\nНационална опера и балет\n Гала оперски концерт во рамките на „Есенски музички свечености“ 2020\n 04.11.2020\, 19 часот\n‼️ВАЖНО ИЗВЕСТУВАЊЕ‼️\nСогласно новите мерки на Владата\, Ве известуваме дека Гала оперскиот концерт\, ЌЕ ЗАПОЧНЕ ВО 19.00 ч.\nДиригент: Иван Еминовиќ\nРежисер: Дејан Прошев\nКонцерт мајстор: Јане Бакевски\nЏ. Росини - Увертира од операта „СЕВИЛСКИОТ БЕРБЕР“\nГ. Ф. Хендел - Арија на Ксеркс од операта „ КСЕРКС “\nИсполнува : Марјан Николовски\nЏ. Росини - Арија на Фигаро од операта „СЕВИЛСКИОТ БЕРБЕР“\nИсполнува : Марјан Јованоски\nЖ. Бизе - Арија на Микаела од операта „КАРМЕН“\nИсполнува : Елена Голомеова\nВ. А. Моцарт - Арија на Гуљелмо од операта „ТАКА ПРАВАТ СИТЕ“\nИсполнува : Драган Ампов\nЏ. Верди - Арија на Магбет од операта „МАГБЕТ“\nИсполнува : Ристе Велков\nШ. Гуно - Арија на Џулиета од операта „РОМЕО И ЈУЛИЈА“\nИсполнува : Билјана Јосифов\nИ. Калман - Арија на Силва од операта „ВОЈВОТКАТА НА ЧАРДАШОТ“\nИсполнува : Десанка Глигоријевиќ\nЏ. Верди - Хор на циганите од операта „ТРУБАДУР“\nИсполнува: Хорот на Национална опера и балет\nЏ. Верди - Арија на Виолета од операта „ТРАВИЈАТА“\nИсполнува : Наде Талевска Спасовска\nЏ. Верди - Хор на евреите од операта „НАБУКО“\nИсполнува: Хорот на Национална опера и балет\nЖ. Бизе - Арија на Кармен од операта „КАРМЕН“\nИсполнува : Ирена Кавкалевска\nЏ. Росини - Дует на Розина и Фигаро од операта „СЕВИЛСКИОТ БЕРБЕР“\nИсполнуваат : Билјана Јосифов и Марјан Јованоски\nФ. Чилеа - Арија на Федерико од операта „АРЛЕЗИЈАНА“\nИсполнува : Зоран Сотиров\nИспициенти: Љупчо Полизов\, Драган Костадиновиќ\, Марко Павлевски\nКорепетитори : Елена Сиљаноска\, Јанинка Невчева\, Андреја Наунов\nХор мајстори: Јасмина Ѓоргеска\, Ѓургица Дашиќ\nУчествуваат: Солистите\, оркестарот и хорот на Национална опера и балет\nУметнички раководител на опера\nБисера Чадловска\n****************************************\nПРОТОКОЛ ЗА ПУБЛИКА\nВлезот на публиката ќе се одвива во две фази\, прва фаза/влез – дезинфекција на раце\, обувки и мерење на температура и втора фаза/влез – приложување на билет.\nВлезот за публиката е отворен еден час пред почеток на претставата/настанот.\n\n\n\tЗадолжително носење на маска за секој посетител - влезот нема да биде дозволен без маски;\n\tЗадолжителна дезинфекција на раце и обувки на влез\,\n\tЗадолжително мерење на температура на влез\,\n\tПоставени и означени места за влез пред билетарата\,\n\tИма јасно и видно истакнато известување за придржување на мерките\,\n\tДоколку се покаже температура над 37 с не е дозволен влез\,\n\tВлезот е еден по еден во фоајето со максимално придржување на дистанца од 1.5 до 2 метра\,\n\tНа влезните врати за публика во гледалиште има по 1 распоредител и се пушта по 1 посетител\,\n\tГардеробата е затворена (секој посетител ќе мора да си ја земе со себе)\n\tИзлезот од сала е на принцип 1 по 1 со максимално придржување на дистанца од 1.5 до 2 метра\,\n
URL:https://operabalet.mk/event/%d0%b5%d1%81%d0%b5%d0%bd%d1%81%d0%ba%d0%b8-%d0%bc%d1%83%d0%b7%d0%b8%d1%87%d0%ba%d0%b8-%d1%81%d0%b2%d0%b5%d1%87%d0%b5%d0%bd%d0%be%d1%81%d1%82%d0%b8-2020-%d0%b3%d0%b0%d0%bb%d0%b0-%d0%be%d0%bf%d0%b5/
LOCATION:бул. Гоце Делчев бр.4\, Скопје\, Скопје\, 1000\, Macedonia
CATEGORIES:концерт
ATTACH;FMTTYPE=image/jpeg:https://operabalet.mk/wp-content/uploads/2020/09/orkestar-efekt.jpg
END:VEVENT
END:VCALENDAR